BEGIN:VCALENDAR
VERSION:2.0
PRODID:-//StivoZ.gr - ECPv5.16.4//NONSGML v1.0//EN
CALSCALE:GREGORIAN
METHOD:PUBLISH
X-WR-CALNAME:StivoZ.gr
X-ORIGINAL-URL:https://www.stivoz.gr
X-WR-CALDESC:StivoZ.gr - Εκδηλώσεις
BEGIN:VTIMEZONE
TZID:Europe/Athens
BEGIN:STANDARD
TZOFFSETFROM:+0200
TZOFFSETTO:+0200
TZNAME:EET
DTSTART:20110101T000000
END:STANDARD
END:VTIMEZONE
BEGIN:VEVENT
DTSTART;VALUE=DATE:20110528
DTEND;VALUE=DATE:20260426
DTSTAMP:20260425T015449
CREATED:20110526T194515Z
LAST-MODIFIED:20181208T172858Z
UID:28609-1306540800-0@www.stivoz.gr
SUMMARY:Ηράκλεια (Ηράκλειο)
DESCRIPTION:Σχετικά θέματα:\n– http://www.stivoz.com/forum/showthread.php?5081\n– http://www.stivoz.gr/?p=16895 (αποτελέσματα) \nΠΡΟΓΡΑΜΜΑ\n10.30 Σφύρα Κ\n11.30 Σφύρα ΠΠ Α΄\n12.30 Σφύρα Π\n13.30 Σφύρα Ε-Α\n14.15 Σφύρα Γ-ΠΚ Α΄\n15.00 Ελληνική Δισκοβολία Α-Βετεράνων (Α–Β)\n15.45 Κρητικό βόλι Α-Βετεράνων  (Α΄-Β΄)\n16.00 Ακόντιο Π-ΠΠ Α΄\n16.30 Ύψος Γ–Α\n16.45 Δίσκος Π\n17.00 Σφαίρα Α\n17.30 Μήκος Α\n17.45 Δίσκος Γ-Κ\n17.45 150μ ΠΚ Α΄\,\n18.00 150μ ΠΠ Α΄\,\n18.00 Μήκος Γ\n18.15 100μ Α\n18.30 100μ Εμπ. ΠΠ Α΄\n18.45 110μ Εμπ. Ε\,\n18.45 Τριπλούν\n19.00 200μ Α – Γ\,\n19.00 Δίσκος Α – ΠΠ Α΄\n19.15 300μ ΠΚ Α΄\,\n19.15 Σφαίρα Γ\n19.30 2.000μ στιπλ Γ\n19.45 2.000μ στιπλ Π\n20.00 4Χ100μ Π-Κ
URL:https://www.stivoz.gr/event/irakleia-irakleio/
CATEGORIES:Ημερολόγιο αγώνων
END:VEVENT
END:VCALENDAR