BEGIN:VCALENDAR
VERSION:2.0
PRODID:-//StivoZ.gr - ECPv5.16.4//NONSGML v1.0//EN
CALSCALE:GREGORIAN
METHOD:PUBLISH
X-WR-CALNAME:StivoZ.gr
X-ORIGINAL-URL:https://www.stivoz.gr
X-WR-CALDESC:StivoZ.gr - Εκδηλώσεις
BEGIN:VTIMEZONE
TZID:Europe/Athens
BEGIN:STANDARD
TZOFFSETFROM:+0200
TZOFFSETTO:+0200
TZNAME:EET
DTSTART:20090101T000000
END:STANDARD
END:VTIMEZONE
BEGIN:VEVENT
DTSTART;VALUE=DATE:20090530
DTEND;VALUE=DATE:20260421
DTSTAMP:20260420T031932
CREATED:20090528T135455Z
LAST-MODIFIED:20181208T172923Z
UID:28300-1243641600-0@www.stivoz.gr
SUMMARY:Ηράκλεια
DESCRIPTION:10.00 Σφύρα ΠΠ-ΠΚ Α΄\n11.00 Σφύρα Γ\n12.00 Σφύρα Π-Κ\n13.15 Σφύρα Α-Ε\n14.30 Ελληνική δισκοβολία Α – Βετεράνων (Α΄-Β΄)\n15.30 Κρητικό Βόλι Α – Βετεράνων (Α΄-Β΄)\n15.30 Σφαίρα ΠΚ Β΄\, δίσκος ΠΠ Α΄\n16.15 Σφαίρα ΠΠ Β΄\n16.45 Δίσκος Α-Ε\n17.00 300μ εμπόδια ΠΠ Α΄\, ύψος ΠΚ Β΄\, σφαίρα Γ-ΠΚ Α΄\n17.15 300μ ΠΚ Α΄\n17.30 1.500μ Α\n17.40 80μ ΠΚ Α΄\, σφαίρα ΠΠ Α΄\n17.50 60μ ΠΠ-ΠΚ Β΄\, Δίσκος Γ-Κ\n18.15 100μ Α-Γ\, μήκος Κ-ΠΚ Α΄\n18.30 1.000μ ΠΠ-ΠΚ Β΄\n18.45 1.000μ ΠΠ-ΠΚ Α΄\, σφαίρα Α-Ε\n19.00 150μ ΠΠ-ΠΚ Α΄\, ακόντιο Γ-ΠΚ Α΄\n19.15 800μ Π\n19.30 60μ εμπόδια ΠΚ Β΄\, σφαίρα Π\n19.45 110μ εμπόδια Ε\n20.00 Ακόντιο Π-ΠΠ Α΄
URL:https://www.stivoz.gr/event/irakleia-5/
CATEGORIES:Ημερολόγιο αγώνων
END:VEVENT
END:VCALENDAR