BEGIN:VCALENDAR
VERSION:2.0
PRODID:-//StivoZ.gr - ECPv5.16.4//NONSGML v1.0//EN
CALSCALE:GREGORIAN
METHOD:PUBLISH
X-WR-CALNAME:StivoZ.gr
X-ORIGINAL-URL:https://www.stivoz.gr
X-WR-CALDESC:StivoZ.gr - Εκδηλώσεις
BEGIN:VTIMEZONE
TZID:Europe/Athens
BEGIN:STANDARD
TZOFFSETFROM:+0200
TZOFFSETTO:+0200
TZNAME:EET
DTSTART:20120101T000000
END:STANDARD
END:VTIMEZONE
BEGIN:VEVENT
DTSTART;VALUE=DATE:20120602
DTEND;VALUE=DATE:20260421
DTSTAMP:20260420T083403
CREATED:20120528T192420Z
LAST-MODIFIED:20191230T140340Z
UID:28705-1338595200-0@www.stivoz.gr
SUMMARY:ημερίδα "Ηράκλεια"
DESCRIPTION:Προγραμμα: \n10.30 Σφύρα Γ\n11.30 Σφύρα Π-ΠΚ Α΄\n12.45 Σφύρα ΠΠ Α΄\n13.45 Σφύρα Α-Ε \n14.45 Ελληνική Δισκοβολία Α.– Βετεράνων (Α – Β)\n15.15 Δίσκος ΠΠ Α΄-ΠΠ Β΄\n16.30 Δίσκος Π\n16.45 Σφαίρα ΠΠ Β΄\n17.15 Μήκος Γ\n17.30 100 Α\,\n17.30 Σφαίρα Γ – Κ\n17.45 80 ΠΚ Α΄\n17.45 Δίσκος Ε – Α\n18.00 110 Εμπ. Π\n18.15 600 ΠΠ – ΠΚ Α\n18.15 Σφαίρα ΠΚ Α΄\n18.30 150 ΠΠ – ΠΚ Β΄\n18.45 150 ΠΠ – ΠΚ Α΄\n18.45 Σφαίρα ΠΠ Α΄\n19.00 200 Α – Γ\n19.00 Δίσκος Γ – Κ\n19.15 800 Α\n19.30 4 Χ 400 Γ\n19.30 Σφαίρα Π\n19.45 2.000 Φ.Ε. Α – Γ\n20.00\n20.15 Ακόντιο Α – Γ – Π – ΠΠ Α
URL:https://www.stivoz.gr/event/irakleia-2012/
CATEGORIES:Ημερολόγιο αγώνων
END:VEVENT
END:VCALENDAR