BEGIN:VCALENDAR
VERSION:2.0
PRODID:-//StivoZ.gr - ECPv5.16.4//NONSGML v1.0//EN
CALSCALE:GREGORIAN
METHOD:PUBLISH
X-WR-CALNAME:StivoZ.gr
X-ORIGINAL-URL:https://www.stivoz.gr
X-WR-CALDESC:StivoZ.gr - Εκδηλώσεις
BEGIN:VTIMEZONE
TZID:Europe/Athens
BEGIN:STANDARD
TZOFFSETFROM:+0200
TZOFFSETTO:+0200
TZNAME:EET
DTSTART:20160101T000000
END:STANDARD
END:VTIMEZONE
BEGIN:VEVENT
DTSTART;VALUE=DATE:20160528
DTEND;VALUE=DATE:20260420
DTSTAMP:20260419T220314
CREATED:20160523T180612Z
LAST-MODIFIED:20181208T172659Z
UID:29053-1464393600-0@www.stivoz.gr
SUMMARY:Ηράκλεια
DESCRIPTION:Σχετικά θέματα:\n– www.stivoz.com/forum/showthread.php?15147 \nΠρόγραμμα: \n14.15 Σφύρα Γ– ΠΚ Α΄\n15.30 Κρητικό Βόλι Π\n15.30 Σφύρα  Ε – Π\n16.30 Ύψος Π – Κ\n16.30 Ακόντιο Π– Α\n17.00 50 Μίνι ΠΠ – ΠΚ\n17.00 Σφαίρα ΠΠ Α΄\n17.30 150 ΠΠ – ΠΚ Α΄ –  Β΄\n17.30 Ακόντιο Γ\n17.45 100 Α – Γ\n18.00 800 Α\n18.00 Σφαίρα Π – Κ\n18.15 400 Α – Γ\n18.15 Μήκος ΠΠ Α΄\n18.15 Δίσκος ΠΠ Α΄\n18.30 1.000 ΠΠ – ΠΚ Α΄\n18.45 300 ΠΠ – ΠΚ Α\n19.00 200 Α – Γ\n19.00 Μήκος ΠΚ Α΄\n19.00 Σφαίρα Α- Γ\n19.00 Δίσκος Α – Ε\n19.15 1.500 Α – Γ\n19.30 3.000 Α – Γ\n19.45 5.000 Α – Γ\n20.15 Δίσκος Γ- Π \nΜετά από απόφαση του Σ.Ε.Γ.Α.Σ. οι επιδόσεις των αθλητών – τριών\, θα αποτελέσουν κριτήριο συμμετοχής στο Παγκόσμιο και Ευρωπαϊκό πρωτάθλημα  Ε/Ν και Π/Κ αντίστοιχα\,\nΜΟΝΟ για τα αγωνίσματα των ρίψεων των παραπάνω κατηγοριών και με τα βάρη οργάνων των κατηγοριών Ε/Ν και Π/Κ \nΤα σωματεία θα πρέπει να στείλουν δήλωση συμμετοχής στην Ε.Α.Σ. Σ.Ε.Γ.Α.Σ. Κρήτης\, μέχρι την Πέμπτη 26 Μαΐου.\nΟι  αθλητές – τριες θα οριστικοποιούν τη συμμετοχή τους στη γραμματεία των αγώνων 1 ώρα  πριν από την έναρξη κάθε αγωνίσματος\,\nπαρουσιάζοντας απαραίτητα το δελτίο τους για να συμπληρωθεί στο πινάκιο ο αριθμός δελτίου του αθλητή–τρίας και να ελεγχτεί  η ιατρική θεώρηση.
URL:https://www.stivoz.gr/event/irakleia-2/
CATEGORIES:Ημερολόγιο αγώνων
END:VEVENT
END:VCALENDAR