BEGIN:VCALENDAR
VERSION:2.0
PRODID:-//StivoZ.gr - ECPv5.16.4//NONSGML v1.0//EN
CALSCALE:GREGORIAN
METHOD:PUBLISH
X-WR-CALNAME:StivoZ.gr
X-ORIGINAL-URL:https://www.stivoz.gr
X-WR-CALDESC:StivoZ.gr - Εκδηλώσεις
BEGIN:VTIMEZONE
TZID:Europe/Athens
BEGIN:DAYLIGHT
TZOFFSETFROM:+0200
TZOFFSETTO:+0300
TZNAME:EEST
DTSTART:20180325T010000
END:DAYLIGHT
BEGIN:STANDARD
TZOFFSETFROM:+0300
TZOFFSETTO:+0200
TZNAME:EET
DTSTART:20181028T010000
END:STANDARD
END:VTIMEZONE
BEGIN:VEVENT
DTSTART;VALUE=DATE:20180526
DTEND;VALUE=DATE:20180527
DTSTAMP:20260420T200935
CREATED:20180523T100419Z
LAST-MODIFIED:20190522T115837Z
UID:29371-1527292800-1527379199@www.stivoz.gr
SUMMARY:8οι Ιόνιοι Αγώνες (Λευκάδα)
DESCRIPTION:Σχετικά θέματα:\n– www.stivoz.com/content.php?6693-Xehorise-i-Karydi-sti-Leykada\n– www.stivoz.com/forum/showthread.php?17657 (αποτελέσματα) \nΔημοτικό Στάδιο Λευκάδας «Πλάτωνας Γρηγόρης» \nΠρόγραμμα \n14.30 Μήκος ΠΚΒ΄\n14.30 Vortex ΠΠΒ΄ Μίνι\n14.30 50μ. Μίνι Αγόρια\n14.50 50μ. Μίνι Κορίτσια\n15.15 60μ. ΠΠΒ΄\n15.15 Vortex ΠΚΒ΄ Μίνι\n15.30 Μήκος ΠΠΒ΄\n15.35 60μ. ΠΚΒ΄\n15.55 Μπαλάκι ΠΠΒ΄\n15.55 80μ. ΠΠΑ΄\n16.10 80μ. ΠΚΑ΄\n16.25 80μ. εμπ. ΠΚΑ΄\n16.35 100μ. εμπ. ΠΠΑ΄\n16.35 Μήκος ΠΠΑ΄-ΠΚΑ΄\n16.35 Μπαλάκι ΠΚΒ΄\n16.45 100μ. εμπ. Κ\n16.55 110μ. εμπ. Π\n17.10 100μ. Α\n17.20 100μ. Γ\n17.20 Ακόντιο Κ\n17.30 Μήκος Α΄-Γ΄\n17.40 1000μ. ΠΠΑ΄\n17.50 1000μ. ΠΚΑ΄\n17.50 Σφαίρα SPECIAL OLYMPICS\n18.00 1500μ. Α\n18.15 1500μ. Γ\n18.15 ‘Ύψος ΠΠΑ΄- ΠΚΑ΄-Γ\n18.25 Σφαίρα ΠΠΑ΄-Κ\n18.25 300 ΠΠΑ΄\n18.35 300μ. ΠΚΑ΄\n18.45 200μ. Α\n18.55 200μ. Γ΄\n18.55 Σφαίρα Π-Α\n19.10 400μ. ΕΜΠ Π\n19.10 Επιτόπιο άλμα ΑΚΑΔ.\n19.30 30 μ. ΑΚΑΔΗΜΙΩΝ \nΤο πρόγραμμα θα οριστικοποιηθεί μετά την επεξεργασία των δηλώσεων συμμετοχής \nΔηλώσεις συμμετοχής μέχρι την ΤΕΤΑΡΤΗ 23-05-2018 στο mail segasepirou@yahoo.gr
URL:https://www.stivoz.gr/event/ionioi-2018/
CATEGORIES:Ημερολόγιο αγώνων
END:VEVENT
END:VCALENDAR