BEGIN:VCALENDAR
VERSION:2.0
PRODID:-//StivoZ.gr - ECPv5.16.4//NONSGML v1.0//EN
CALSCALE:GREGORIAN
METHOD:PUBLISH
X-WR-CALNAME:StivoZ.gr
X-ORIGINAL-URL:https://www.stivoz.gr
X-WR-CALDESC:StivoZ.gr - Εκδηλώσεις
BEGIN:VTIMEZONE
TZID:Europe/Athens
BEGIN:STANDARD
TZOFFSETFROM:+0200
TZOFFSETTO:+0200
TZNAME:EET
DTSTART:20120101T000000
END:STANDARD
END:VTIMEZONE
BEGIN:VEVENT
DTSTART;VALUE=DATE:20120519
DTEND;VALUE=DATE:20260423
DTSTAMP:20260422T115129
CREATED:20120509T193646Z
LAST-MODIFIED:20181208T172841Z
UID:28648-1337385600-0@www.stivoz.gr
SUMMARY:ημερίδα "Ζαχαριάδεια" (Θεσ/νίκη)
DESCRIPTION:Σχετικά θέματα:\n– www.stivoz.com/forum/showthread.php?6832\n– www.stivoz.com/forum/showthread.php?6845\n– www.stivoz.com/forum/showthread.php?6848 (αποτελέσματα) \nΠΡΟΓΡΑΜΜΑ \n08.30	5000μ.& 5000μ. βάδην ΒΕΤΕΡΑΝΩΝ\n09.30	1000μ. ΠΠΑ\n09.30 Μήκος ΠΠΑ & Π (2 σκάμματα)\n09.40	1000μ. ΠΚΑ\n09.50	150μ. ΠΠΑ\n10.00	150μ. ΠΚΑ\n10.15	300μ. ΠΠΑ\n10.30	300μ. ΠΚΑ\n10.30 Μήκος ΠΚΑ & Κ (2 σκάμματα)\n10.45	100μ. Π\n11.00	100μ. Κ\n11.20	80μ.με εμπ. ΠΚ Α.\n11.30	100μ ΕΜΠ Κ\n11.45	4Χ100μ. Π\n11.55	4Χ100μ. Κ		 \n12:00	Αγωνίσματα Kids athletic (με κριτές τους προπονητές των αθλητών) \n16:30	100μ. Α\n16:45	100μ. Γ\n17:10 ΜΗΚΟΣ Βετεράνων & Α (2 σκάμματα)\n17:10 ΣΦΑΙΡΑ     Α\n17:25	    110μ Εμπ Ε\n17:35	    100μ Εμπ Γ\n17:35 ΥΨΟΣ Γ\n17:45	200μ. Α\n18:00	200μ  Γ\n18:15 ΜΗΚΟΣ  Γ\n18:15 ΔΙΣΚΟΣ     Α\n18:15 800μ Α\n18:20 800μ Γ\n18:20 ΑΚΟΝΤΙΟ Α (κεντρικό Στάδιο)\n18:35	400μ εμπ Γ\n18:50	400μ εμπ Α\n19:10 ΔΙΣΚΟΣ  Α\n19:10	400μ  Κ\n19:20	400μ  Π\n19:20 ΤΡΙΠΛΟΥΝ Α & Π (2 σκάμματα)\n19:20 ΑΚΟΝΤΙΟ Γ-Κ (κεντρικό στάδιο)\n19:35	400μ  Α\n19:50	4Χ100μ Α\n20:00	4Χ100μ Γ\n20.15 1500μ. Α\n20.25 1500μ. Γ		 \nΣΗΜΕΙΩΣΗ :\nΑγωνίσματα στα οποία δεν θα δηλωθούν περισσότεροι από 3 αθλητές –τριες ή ομάδες ΔΕΝ θα διεξαχθούν  \nΟι Δηλώσεις Συμμετοχής των αθλητών-τριών θα υποβάλλονται το αργότερο μέχρι την Τρίτη 15/5/2012 στα Γραφεία της ΕΑΣ ΣΕΓΑΣ ΘΕΣΣΑΛΟΝΙΚΗΣ (ΦΑΞ: 2310 211799) στο ειδικό συνημμένο έντυπο της προκήρυξης. (  ΣΣ: χρειάζεται αναγραφή για    ΟΝΟΜΑΤΕΠΩΝΥΜΟ -ΕΤ.ΓΕΝ – ΑΡ.ΔΕΛΤΙΟΥ – ΑΓΩΝΙΣΜΑΤΑ	– ΠΡΟΠΟΝΗΤΗΣ ) \nΕιδικά στα αγωνίσματα kids athletic οι δηλώσεις συμμετοχής θα γίνουν αριθμητικά για κάθε αγωνιστική κατηγορία (mini – ΠΠ-ΠΚ Β΄) και οι ομάδες μπορεί να είναι μικτές (αγόρια – κορίτσια).  \nA.	Κατηγορία των MINI:  Από 9 μέχρι 11 χρόνων 	(2000-2001-2002)\nB.	Κατηγορία των ΠΠ/ΠΚ-Β  :  12 & 13 χρόνων 	 (1998-1999). \nΣτην κατηγορία ΜΙΝΙ περιλαμβάνονται τα αγωνίσματα:  \n1.	Δρόμος ταχύτητας με σλάλομ 30μ.\n2.	Άλματα με δύο πόδια (λαγουδάκια)\n3.	Ρίψη με μπαλάκι σε στόχο\n4.	Τρέξιμο με σημάδια (συχνότητα)\n5.	Ρίψη βαριάς μπάλας(1-2 κιλά) προς τα εμπρός\, από θέση γονάτισης με τα χέρια στην ανάταση\n6.	Άλματα σε σχήμα σταυρού με τα δύο πόδια\n7.	Δρόμος με «εμπόδια» (40 εκ.)  σε απόσταση 30μ.\n8.	Σκυταλοδρομία αντοχής (κάθε αθλητής τρέχει 200μ.)
URL:https://www.stivoz.gr/event/imerida-zachariadeia-thes-niki/
CATEGORIES:Ημερολόγιο αγώνων
END:VEVENT
END:VCALENDAR