BEGIN:VCALENDAR
VERSION:2.0
PRODID:-//StivoZ.gr - ECPv5.16.4//NONSGML v1.0//EN
CALSCALE:GREGORIAN
METHOD:PUBLISH
X-WR-CALNAME:StivoZ.gr
X-ORIGINAL-URL:https://www.stivoz.gr
X-WR-CALDESC:StivoZ.gr - Εκδηλώσεις
BEGIN:VTIMEZONE
TZID:Europe/Athens
BEGIN:DAYLIGHT
TZOFFSETFROM:+0200
TZOFFSETTO:+0300
TZNAME:EEST
DTSTART:20240331T010000
END:DAYLIGHT
BEGIN:STANDARD
TZOFFSETFROM:+0300
TZOFFSETTO:+0200
TZNAME:EET
DTSTART:20241027T010000
END:STANDARD
END:VTIMEZONE
BEGIN:VEVENT
DTSTART;VALUE=DATE:20240127
DTEND;VALUE=DATE:20240128
DTSTAMP:20260419T214846
CREATED:20240119T085812Z
LAST-MODIFIED:20240127T130629Z
UID:111178-1706313600-1706399999@www.stivoz.gr
SUMMARY:ημερίδα (Θεσσαλονίκη)
DESCRIPTION:κατ. F\nκλειστό Αμπελοκήπων “Τασούλα Κελεσίδου” \nΣχετικά θέματα:\n– www.stivoz.gr/imerida-thessaloniki-27-1-2024/ (αποτελέσματα) \nΠρόγραμμα (εν.25/1) : \n\n10:30 ΤΡΙΠΛΟΥΝ (Γ) γεν 2009 & μεγαλ.\n10:40 ΥΨΟΣ (Α) γεν 2010 & μεγαλ.\n10:40 ΕΠΙ ΚΟΝΤΩ (Γ) γεν 2010 & μεγαλ.\n10:40 60μ Εμπ. Κ16 (Κ) γεν 2009 – 2010\n11:00 60μ Εμπ. Κ18 (Γ) γεν 2007 – 2008\n11.15 60μ Εμπ. Κ16 (Α) γεν 2009 – 2010\n11:25 60μ Εμπ. (Γ) γεν 2006 & μεγαλ.\n11:45 ΤΡΙΠΛΟΥΝ (Α) γεν 2009 & μεγαλ.\n11:45 60μ Εμπ. Κ18 (Α) γεν 2007 – 2008\n11:50 60μ Εμπ. Κ20 (Α) γεν 2005 – 2006\n11:50 ΥΨΟΣ (Γ) γεν 2010 & μεγαλ.\n12:00 60μ Εμπ.(Α) γεν 2004 & μεγαλ.\n12:15 60μ  (Γ) γεν. 2009 & μεγαλ.\n13:00 ΕΠΙ ΚΟΝΤΩ (Α) γεν 2010 & μεγαλ.\n13:00 ΜΗΚΟΣ (Γ) γεν 2010 & μεγαλ.\n13:10 60μ (Α) γεν. 2009 & μεγαλ.\n14:15 ΣΦΑΙΡΑ (Γ) γεν. 2007 & μεγαλ.\n14:40 ΜΗΚΟΣ (Α) γεν 2010 & μεγαλ.\n15:20 ΣΦΑΙΡΑ (Α) γεν 2004 & μεγαλ.\n15:20 ΣΦΑΙΡΑ Κ20 (Α) γεν 2005-06-07
URL:https://www.stivoz.gr/event/imerida-thessaloniki-2024-01-27/
CATEGORIES:Ημερολόγιο αγώνων
END:VEVENT
END:VCALENDAR