BEGIN:VCALENDAR
VERSION:2.0
PRODID:-//StivoZ.gr - ECPv5.16.4//NONSGML v1.0//EN
CALSCALE:GREGORIAN
METHOD:PUBLISH
X-WR-CALNAME:StivoZ.gr
X-ORIGINAL-URL:https://www.stivoz.gr
X-WR-CALDESC:StivoZ.gr - Εκδηλώσεις
BEGIN:VTIMEZONE
TZID:Europe/Athens
BEGIN:DAYLIGHT
TZOFFSETFROM:+0200
TZOFFSETTO:+0300
TZNAME:EEST
DTSTART:20240331T010000
END:DAYLIGHT
BEGIN:STANDARD
TZOFFSETFROM:+0300
TZOFFSETTO:+0200
TZNAME:EET
DTSTART:20241027T010000
END:STANDARD
END:VTIMEZONE
BEGIN:VEVENT
DTSTART;VALUE=DATE:20240120
DTEND;VALUE=DATE:20240121
DTSTAMP:20260419T182202
CREATED:20240119T085806Z
LAST-MODIFIED:20240120T204629Z
UID:111177-1705708800-1705795199@www.stivoz.gr
SUMMARY:ημερίδα (Θεσσαλονίκη)
DESCRIPTION:κατ. F\nκλειστό Αμπελοκήπων “Τασούλα Κελεσίδου” \nΣχετικά θέματα:\n– www.stivoz.gr/imerida-thessaloniki-20-1-2024/ (αποτελέσματα) \nΠρόγραμμα: \n10:45 ΕΠΙ ΚΟΝΤΩ (Γ) γεν 2009 & μεγαλ.\n10:45 ΥΨΟΣ ( Γ ) γεν 2009 & μεγαλ.\n10:45 ΜΗΚΟΣ ( Γ ) γεν 2009 & μεγαλ.\n11:00 60μ Εμπ. Κ16 (Κ) γεν 2009 – 2010\n11.15 60μ Εμπ. Κ18 (Γ) γεν 2007 – 2008\n11:30 60μ Εμπ. Κ16 (Α) γεν 2009 – 2010\n11:45 60μ Εμπ. (Γ) γεν 2006 & μεγαλ.\n12:00 60μ Εμπ. Κ18 (Α) γεν 2007 – 2008\n12:10 60μ Εμπ. Κ20 (Α) γεν 2005 – 2006\n12:10 ΜΗΚΟΣ ( Α ) γεν 2009 & μεγαλ.\n12:20 60μ Εμπ.(Α) γεν 2004 & μεγαλ.\n12:20 ΥΨΟΣ ( A ) γεν 2009 & μεγαλ.\n12:30 60μ (Γ) γεν. 2009 & μεγαλ.\n13:10 60μ (Α) γεν. 2009 & μεγαλ.\n13:10 ΕΠΙ ΚΟΝΤΩ (Α) γεν 2009 & μεγαλ.\n14:00 ΤΡΙΠΛΟΥΝ (Γ) γεν 2009 & μεγαλ.\n14:00 ΣΦΑΙΡΑ Γ γεν. 2007 & μεγαλ.\n15:15 ΣΦΑΙΡΑ Α γεν 2004 & μεγαλ.\n15:15 ΣΦΑΙΡΑ Κ20 Α γεν 2005-06-07\n15:15 ΤΡΙΠΛΟΥΝ (Α) γεν 2009 & μεγαλ.
URL:https://www.stivoz.gr/event/imerida-thessaloniki-2024-01-20/
CATEGORIES:Ημερολόγιο αγώνων
END:VEVENT
END:VCALENDAR