BEGIN:VCALENDAR
VERSION:2.0
PRODID:-//StivoZ.gr - ECPv5.16.4//NONSGML v1.0//EN
CALSCALE:GREGORIAN
METHOD:PUBLISH
X-WR-CALNAME:StivoZ.gr
X-ORIGINAL-URL:https://www.stivoz.gr
X-WR-CALDESC:StivoZ.gr - Εκδηλώσεις
BEGIN:VTIMEZONE
TZID:Europe/Athens
BEGIN:DAYLIGHT
TZOFFSETFROM:+0200
TZOFFSETTO:+0300
TZNAME:EEST
DTSTART:20190331T010000
END:DAYLIGHT
BEGIN:STANDARD
TZOFFSETFROM:+0300
TZOFFSETTO:+0200
TZNAME:EET
DTSTART:20191027T010000
END:STANDARD
END:VTIMEZONE
BEGIN:VEVENT
DTSTART;VALUE=DATE:20190202
DTEND;VALUE=DATE:20190203
DTSTAMP:20260420T034345
CREATED:20190124T102907Z
LAST-MODIFIED:20190203T091106Z
UID:42960-1549065600-1549151999@www.stivoz.gr
SUMMARY:ημερίδα - Θεσσαλονίκη
DESCRIPTION:Σχετικά θέματα:\n– https://www.stivoz.gr/se-anodiki-poreia-moyzenidis-kai-koutsaliari/\n– https://www.stivoz.gr/imerida-thessaloniki-2-2-2019/ (αποτελέσματα) \nΚλειστό στάδιο των Αμπελοκήπων “Τασούλα Κελεσίδου” \nΘα ισχύσουν τα όρια πρόκρισης για το Ευρωπαϊκό Πρωτάθλημα κλειστού\, σε Μήκος Γυναικών\, Μήκος Ανδρών\, Τριπλούν Ανδρών και Σφαίρα Ανδρών \nΠρόγραμμα: \n11:50 ΥΨΟΣ (Γ)\n12:00 ΕΠΙ ΚΟΝΤΩ (Γ-Ν-Κ)\n12:00 ΜΗΚΟΣ (Γ)\n12:00 60m Εμπ. (ΠΚ Α΄)\n12:15 60m Εμπ. (Κ)\n12:40 60m Εμπ. (ΠΠ Α΄)\n12:55 60m Εμπ. (Γ)\n12:55 ΥΨΟΣ (Α)\n13:10 ΜΗΚΟΣ (Α)\n13:10 60m Εμπ. (Π)\n13:25 60m Εμπ. (Ε)\n13:35 60m Εμπ. (Α)\n13:35 ΕΠΙ ΚΟΝΤΩ (Α-Ε-Π)\n13:45 60m (Κ)\n14:05 60m (Γ)\n14:05 ΜΗΚΟΣ (Ε-Π)\n14:20 60m (Π)\n14:45 60m (Α)\n15:20 ΤΡΙΠΛΟΥΝ (Γ)\n15:20 ΣΦΑΙΡΟΒΟΛΙΑ (Γ)\n16:00 ΣΦΑΙΡΟΒΟΛΙΑ (Α-Ε)\n16:20 ΤΡΙΠΛΟΥΝ (Α) \n\nΟι δηλώσεις θα γίνονται στην γραμματεία των αγώνων 60΄ πριν την έναρξη του κάθε αγωνίσματος\nΔικαίωμα συμμετοχής σε 2 αγωνίσματα.\nΔεν θα επιτραπεί εκτός συναγωνισμού συμμετοχή\, ούτε η συμμετοχή αθλητών/τριών της κατηγορίας Κ14 (ΠΠ/ΠΚ Β’) – ούτε Κ16 (ΠΠ/ΠΚ Α’) πέραν των 60μ. εμπ.
URL:https://www.stivoz.gr/event/imerida-thessaloniki-2019-02-02/
CATEGORIES:Ημερολόγιο αγώνων
END:VEVENT
END:VCALENDAR