BEGIN:VCALENDAR
VERSION:2.0
PRODID:-//StivoZ.gr - ECPv5.16.4//NONSGML v1.0//EN
CALSCALE:GREGORIAN
METHOD:PUBLISH
X-WR-CALNAME:StivoZ.gr
X-ORIGINAL-URL:https://www.stivoz.gr
X-WR-CALDESC:StivoZ.gr - Εκδηλώσεις
BEGIN:VTIMEZONE
TZID:Europe/Athens
BEGIN:STANDARD
TZOFFSETFROM:+0200
TZOFFSETTO:+0200
TZNAME:EET
DTSTART:20170101T000000
END:STANDARD
END:VTIMEZONE
BEGIN:VEVENT
DTSTART;VALUE=DATE:20170121
DTEND;VALUE=DATE:20260420
DTSTAMP:20260419T163127
CREATED:20170116T130013Z
LAST-MODIFIED:20191230T134657Z
UID:29166-1484956800-0@www.stivoz.gr
SUMMARY:ημερίδα - Θεσσαλονίκη
DESCRIPTION:Σχετικά θέματα:\n– www.stivoz.com/content.php?5974-Me-rekor-xekinise-o-Mouzenidis\n– www.stivoz.com/forum/showthread.php?16080 (αποτελέσματα) \nΠρόγραμμα : \nΚλειστό “Τασούλα Κελεσίδου” Αμπελοκήπων  \n10.00 Μήκος ΠΠ Α’\n10.00 Κοντώ Γ-Κ\n10.00  ΣΦΑΙΡΟΒΟΛΙΑ Γ-Κ\n11.00  ΣΦΑΙΡΟΒΟΛΙΑ Π\n11.15  Μήκος ΠΚ Α΄\n11.30  Κοντώ Α-Π\n12.00  ΣΦΑΙΡΟΒΟΛΙΑ Α- Ε \nΑΛΕΞΑΝΔΡΕΙΟ ΑΘΛΗΤΙΚΟ ΜΕΛΑΘΡΟ \n14:00 ΜΗΚΟΣ (Γ-Κ)\n14:00 ΥΨΟΣ (Α-Π)\n14:00 60 μ. εμπ. (Α)\n14:10 60 μ. εμπ. (Ε)\n14:20 60 μ. εμπ. (Π)\n14:30 60 μ. εμπ. (ΠΠΑ΄)\n14:45 60 μ. εμπ. (Γ)\n15:00 60 μ. εμπ. (Κ)\n15:00 Υψος (Γ-Κ)\n15:10 Μήκος (A-Π)\n15:10 60 μ. εμπ. (ΠΚΑ΄)\n15:30 60 μ. (A)\n15:50 60 μ. (Γ)\n16:10 60 μ. (Π)\n16:10 Τριπλούν (Α-Π)\n16:30 Τριπλούν (Γ-Κ)\n16:30 60 μ. (Κ)
URL:https://www.stivoz.gr/event/imerida-thessaloniki-2017-01-21/
CATEGORIES:Ημερολόγιο αγώνων
END:VEVENT
END:VCALENDAR