BEGIN:VCALENDAR
VERSION:2.0
PRODID:-//StivoZ.gr - ECPv5.16.4//NONSGML v1.0//EN
CALSCALE:GREGORIAN
METHOD:PUBLISH
X-WR-CALNAME:StivoZ.gr
X-ORIGINAL-URL:https://www.stivoz.gr
X-WR-CALDESC:StivoZ.gr - Εκδηλώσεις
BEGIN:VTIMEZONE
TZID:Europe/Athens
BEGIN:STANDARD
TZOFFSETFROM:+0200
TZOFFSETTO:+0200
TZNAME:EET
DTSTART:20120101T000000
END:STANDARD
END:VTIMEZONE
BEGIN:VEVENT
DTSTART;VALUE=DATE:20120129
DTEND;VALUE=DATE:20260423
DTSTAMP:20260422T071129
CREATED:20120125T155259Z
LAST-MODIFIED:20191230T140531Z
UID:28632-1327795200-0@www.stivoz.gr
SUMMARY:ημερίδα (Θεσ/νίκη)
DESCRIPTION:(Το αγώνισμα του άλματος ΕΠΙ ΚΟΝΤΩ  θα διεξαχθεί το Σάββατο 28/1/2012 στο ΚΛΕΙΣΤΟ  ΠΡΟΠΟΝΗΤΗΡΙΟ του ΚΑΥΤΑΝΖΟΓΛΕΙΟΥ ΣΤΑΔΙΟΥ.\n16.00  	ΕΠΙ ΚΟΝΤΩ Γ-Κ-ΠΚ Α΄\n17.30	ΕΠΙ ΚΟΝΤΩ Α-Π-ΠΠ Α΄) \nΚυριακή\n15:30 ΜΗΚΟΣ (A-Π)\n15:30 ΥΨΟΣ (Γ-Κ)\n15:30	60 Μ. ΕΜΠ. (Α-Ε)\n15:45	60 Μ. ΕΜΠ. (Π)\n16:00	60 Μ. ΕΜΠ. (ΠΠΑ΄)\n16:15	60 Μ. ΕΜΠ. (Γ)\n16:30	60 Μ. ΕΜΠ. (Κ)\n16:45	60 Μ. ΕΜΠ. (ΠΚΑ΄)\n16:45 ΜΗΚΟΣ (Γ-Κ)\n17:00 ΥΨΟΣ (Α-Π)\n17:00	60 Μ. (Γ)\n17:20	60 Μ. (Κ)\n17:40 ΤΡΙΠΛΟΥΝ  (Α-Π)\n17:40	60 Μ. (Α)\n18:00	60 Μ. (Π)\n18:00		ΤΡΙΠΛΟΥΝ (Γ-Κ)
URL:https://www.stivoz.gr/event/imerida-thessaloniki-2012-01-29/
CATEGORIES:Ημερολόγιο αγώνων
END:VEVENT
END:VCALENDAR