BEGIN:VCALENDAR
VERSION:2.0
PRODID:-//StivoZ.gr - ECPv5.16.4//NONSGML v1.0//EN
CALSCALE:GREGORIAN
METHOD:PUBLISH
X-WR-CALNAME:StivoZ.gr
X-ORIGINAL-URL:https://www.stivoz.gr
X-WR-CALDESC:StivoZ.gr - Εκδηλώσεις
BEGIN:VTIMEZONE
TZID:Europe/Athens
BEGIN:DAYLIGHT
TZOFFSETFROM:+0200
TZOFFSETTO:+0300
TZNAME:EEST
DTSTART:20240331T010000
END:DAYLIGHT
BEGIN:STANDARD
TZOFFSETFROM:+0300
TZOFFSETTO:+0200
TZNAME:EET
DTSTART:20241027T010000
END:STANDARD
END:VTIMEZONE
BEGIN:VEVENT
DTSTART;VALUE=DATE:20240203
DTEND;VALUE=DATE:20240204
DTSTAMP:20260420T085132
CREATED:20240119T092631Z
LAST-MODIFIED:20240204T062859Z
UID:111201-1706918400-1707004799@www.stivoz.gr
SUMMARY:ημερίδα (Σέρρες)
DESCRIPTION:Σχετικά θέματα:\n– www.stivoz.gr/imerida-serres-3-2-2024/ (αποτελέσματα)
URL:https://www.stivoz.gr/event/imerida-serres-2024-02-03/
CATEGORIES:Ημερολόγιο αγώνων
END:VEVENT
END:VCALENDAR