BEGIN:VCALENDAR
VERSION:2.0
PRODID:-//StivoZ.gr - ECPv5.16.4//NONSGML v1.0//EN
CALSCALE:GREGORIAN
METHOD:PUBLISH
X-WR-CALNAME:StivoZ.gr
X-ORIGINAL-URL:https://www.stivoz.gr
X-WR-CALDESC:StivoZ.gr - Εκδηλώσεις
BEGIN:VTIMEZONE
TZID:Europe/Athens
BEGIN:STANDARD
TZOFFSETFROM:+0200
TZOFFSETTO:+0200
TZNAME:EET
DTSTART:20160101T000000
END:STANDARD
END:VTIMEZONE
BEGIN:VEVENT
DTSTART;VALUE=DATE:20160130
DTEND;VALUE=DATE:20260421
DTSTAMP:20260420T000542
CREATED:20160111T113546Z
LAST-MODIFIED:20191230T135037Z
UID:29074-1454112000-0@www.stivoz.gr
SUMMARY:ημερίδα (Σέρρες)
DESCRIPTION:Πρόγραμμα: \n15:30  ΣΦΑΙΡΑ  Α-Ε-Π\n15:30   ΜΗΚΟΣ Γ-Κ\,\n16:15 ΜΗΚΟΣ ΠΚΑ’\n16:15   60  ΕΜΠ. ΠΚΑ’\n16:30   60  ΕΜΠ. Κ\n16:45   60  ΕΜΠ. ΠΠΑ’\n16:45 ΣΦΑΙΡΑ ΠΠΑ’\n16:55 ΜΗΚΟΣ ΠΠΑ’\n16:55   60  ΕΜΠ. Γ\n17:10   60  ΕΜΠ. Π\n17:20   60  ΕΜΠ. Ε\n17:30   60  ΕΜΠ. Α\,\n17:30 ΜΗΚΟΣ Α-Π\n17:30 ΣΦΑΙΡΑ Κ-ΠΚΑ’\n17:45   60  ΠΠΑ’\n18:00   60  ΠΚΑ’\n18:15 ΤΡΙΠΛΟΥΝ Γ\n18:15 ΣΦΑΙΡΑ Γ\n18:15   60  Π\n18:30   60  Κ\n18:45 ΤΡΙΠΛΟΥΝ Α\n18:45   60  Α\n19:00   60  Γ \nΤο αγώνισμα της σφαιροβολίας θα διεξαχθεί στο βοηθητικό γυμναστήριο\, εφόσον το επιτρέψουν οι καιρικές συνθήκες
URL:https://www.stivoz.gr/event/imerida-serres-2016-01-30/
CATEGORIES:Ημερολόγιο αγώνων
END:VEVENT
END:VCALENDAR