BEGIN:VCALENDAR
VERSION:2.0
PRODID:-//StivoZ.gr - ECPv5.16.4//NONSGML v1.0//EN
CALSCALE:GREGORIAN
METHOD:PUBLISH
X-WR-CALNAME:StivoZ.gr
X-ORIGINAL-URL:https://www.stivoz.gr
X-WR-CALDESC:StivoZ.gr - Εκδηλώσεις
BEGIN:VTIMEZONE
TZID:Europe/Athens
BEGIN:STANDARD
TZOFFSETFROM:+0200
TZOFFSETTO:+0200
TZNAME:EET
DTSTART:20120101T000000
END:STANDARD
END:VTIMEZONE
BEGIN:VEVENT
DTSTART;VALUE=DATE:20120204
DTEND;VALUE=DATE:20260423
DTSTAMP:20260422T104442
CREATED:20120126T080219Z
LAST-MODIFIED:20191230T140518Z
UID:28633-1328313600-0@www.stivoz.gr
SUMMARY:ημερίδα (Σέρρες)
DESCRIPTION:15:30 ΚΟΝΤΩ (Α-Π-ΠΠΑ) & (Γ-Κ-ΠΚΑ)\n16:00 ΜΗΚΟΣ (Γ-Κ)\n16:00 ΣΦΑΙΡΟΒΟΛΙΑ (Π)\n16:00 60 Μ ΕΜΠ. (ΠΚΑ)\n16:15 60 Μ. ΕΜΠ. (Κ΄)\n16:30 60 Μ. ΕΜΠ. (ΠΠΑ)\n16:30 ΜΗΚΟΣ (ΠΚΑ)\n16:40 ΣΦΑΙΡΟΒ. (ΠΠΑ)\n16:40 60 Μ. ΕΜΠ. (Γ)\n16:50 60 Μ. ΕΜΠ. (Π)\n17:00 60 Μ. ΕΜΠ. (Α)\n17:00 ΜΗΚΟΣ (ΠΠΑ)\n17:10 60 Μ. (ΠΠΒ)\n17:30 60 Μ. (ΠΚΒ)\n17:30 ΣΦΑΙΡΟΒ. (ΠΚΑ)\n17:45 60 Μ. (ΠΠΑ)\n18:00 60 Μ. (ΠΚΑ)\n18:00 ΜΗΚΟΣ (Α-Π)\n18:15 ΣΦΑΙΡΟΒΟΛΙΑ (Κ)\n18:15 60 Μ. (Π)\n18:30 60 Μ (Κ)\n18:45 60 Μ. (Α)\n19:00 60 Μ. (Γ)
URL:https://www.stivoz.gr/event/imerida-serres-2012-02-04/
CATEGORIES:Ημερολόγιο αγώνων
END:VEVENT
END:VCALENDAR