BEGIN:VCALENDAR
VERSION:2.0
PRODID:-//StivoZ.gr - ECPv5.16.4//NONSGML v1.0//EN
CALSCALE:GREGORIAN
METHOD:PUBLISH
X-WR-CALNAME:StivoZ.gr
X-ORIGINAL-URL:https://www.stivoz.gr
X-WR-CALDESC:StivoZ.gr - Εκδηλώσεις
BEGIN:VTIMEZONE
TZID:Europe/Athens
BEGIN:DAYLIGHT
TZOFFSETFROM:+0200
TZOFFSETTO:+0300
TZNAME:EEST
DTSTART:20190331T010000
END:DAYLIGHT
BEGIN:STANDARD
TZOFFSETFROM:+0300
TZOFFSETTO:+0200
TZNAME:EET
DTSTART:20191027T010000
END:STANDARD
END:VTIMEZONE
BEGIN:VEVENT
DTSTART;VALUE=DATE:20190125
DTEND;VALUE=DATE:20190126
DTSTAMP:20260420T052131
CREATED:20190104T123241Z
LAST-MODIFIED:20191230T134036Z
UID:41750-1548374400-1548460799@www.stivoz.gr
SUMMARY:ημερίδα ΣΕΦ
DESCRIPTION:Σχετικά θέματα:\n– https://www.stivoz.gr/imerida-sef-polla-oria/\n– https://www.stivoz.gr/imerida-sef-2019/ (αποτελέσματα απόγ. – Α/Γ)\n– https://www.stivoz.gr/imerida-pp-pk-sef-2019/(αποτελέσματα πρωί – ΠΠ/ΠΚ) \n-> συμμετοχές\n-> Όρια Glasgow2019 \nΠρόγραμμα προπονήσεων \nΤρ. 22/1 19.00-21.30 (περιφερειακός)\nΤε. 23/1 09.00-11.30 (περιφερειακός)\nΤε. 23/1 13.30-21.30 (περιφερειακός)\nΠέ. 24/1 09.00- 21.30 (πλήρες Στάδιο) \nΠρόγραμμα ημερίδας \nΠρωί (ΠΠ/ΠΚ) \n09:00 Άλμα Τριπλούν ΠΠ Α΄\n09:00 60μ. με Εμπόδια ΠΠ Α’\n09:10 60μ. με Εμπόδια ΠΚ Α’\n09:25 60μ. ΠΠ Α’\n09:30 Άλμα Επί Κοντώ ΠΚ Α΄\n10:00 Σφαιροβολία ΠΚ Α’\n10:00 Άλμα σε Ύψος ΠΠ Α’\n10:10 60μ. ΠΚ Α’\n10:30 Άλμα σε Μήκος ΠΚ Α’\n10:55 300μ. ΠΠ Α΄\n11:30 Σφαιροβολία ΠΠ Α’\n11:30 Άλμα σε Ύψος ΠΚ Α’\n11:35 300μ. ΠΚ Α΄\n12:15 Άλμα σε Μήκος ΠΠ Α’\n12:30 1.000μ. ΠΠ Α’\n12:45 1.000μ. ΠΚ Α’ \n*Το οριστικό ωρολόγιο πρόγραμμα θα ανακοινωθεί μετά την επεξεργασία των δηλώσεων συμμετοχής των σωματείων \nΣτην Ημερίδα δικαίωμα συμμετοχής έχουν ΜΟΝΟ αθλητές – τριες: Κ16 (ΠΑΜΠΑΙΔΕΣ – ΠΑΓΚΟΡΑΣΙΔΕΣ Α’): που έχουν γεννηθεί το 2004 και 2005.\nΚάθε αθλητής-τρια μπορεί να αγωνισθεί ΜΟΝΟ σε ΕΝΑ (1) ΑΓΩΝΙΣΜΑ\nΟι δηλώσεις συμμετοχής πρέπει να σταλούν στον Σ.Ε.Γ.Α.Σ. με email το αργότερο μέχρι και την Παρασκευή 18 Ιανουαρίου 2019 και ώρα 14.00 στην ηλεκτρονική διεύθυνση entries@segas.gr \nΑπόγευμα \n13:00 Άλμα Επί Κοντώ ΚΟΡΑΣΙΔΩΝ\n13:00 5.000μ. Βάδην ΑΝΔΡΩΝ\n13:05 3.000μ. Βάδην ΓΥΝΑΙΚΩΝ\n13:30 Σφαιροβολία ΠΑΙΔΩΝ\n14:00 Άλμα σε Ύψος ΠΑΙΔΩΝ\n14:00 Άλμα Τριπλούν ΓΥΝΑΙΚΩΝ\n14:00 60μ. ΑΝΔΡΩΝ Προκριματικές Σειρές\n14:40 60μ. ΓΥΝΑΙΚΩΝ Προκριματικές Σειρές\n15:00 Σφαιροβολία ΚΟΡΑΣΙΔΩΝ\n15:15 Άλμα Τριπλούν ΑΝΔΡΩΝ\n15:20 800μ. ΑΝΔΡΩΝ Τελικές Σειρές\n15:40 800μ. ΓΥΝΑΙΚΩΝ Τελικές Σειρές\n16:00 Άλμα Επί Κοντώ ΓΥΝΑΙΚΩΝ\n16:00 60μ. ΑΝΔΡΩΝ ΤΕΛΙΚΟΣ\n16:06 60μ. ΓΥΝΑΙΚΩΝ ΤΕΛΙΚΟΣ\n16:15 3.000μ. ΑΝΔΡΩΝ Τελική Σειρά\n16:30 Άλμα σε Ύψος ΑΝΔΡΩΝ\n16:30 3.000μ. ΓΥΝΑΙΚΩΝ Τελική Σειρά\n16:45 200μ. ΓΥΝΑΙΚΩΝ Τελικές Σειρές\n16:45 Άλμα σε Μήκος ΓΥΝΑΙΚΩΝ\n17:00 Σφαιροβολία ΓΥΝΑΙΚΩΝ\n17:20 200μ. ΑΝΔΡΩΝ Τελικές Σειρές\n17:55 1.500μ. ΑΝΔΡΩΝ Τελικές Σειρές\n18:15 1.500μ. ΓΥΝΑΙΚΩΝ Τελικές Σειρές\n18:30 Άλμα Επί Κοντώ ΑΝΔΡΩΝ\n18:30 Σφαιροβολία ΑΝΔΡΩΝ & ΕΦΗΒΩΝ\n18:40 60μ. με Εμπόδια ΚΟΡΑΣΙΔΩΝ Τελικές Σειρές\n18:45 Άλμα σε Μήκος ΑΝΔΡΩΝ\n19:00 Άλμα σε Ύψος ΓΥΝΑΙΚΩΝ\n19:00 60μ. με Εμπόδια ΓΥΝΑΙΚΩΝ Τελικές Σειρές\n19:15 60μ. με Εμπόδια ΠΑΙΔΩΝ Τελικές Σειρές\n19:35 60μ. με Εμπόδια ΑΝΔΡΩΝ Τελικές Σειρές\n19:40 60μ. με Εμπόδια ΕΦΗΒΩΝ Τελικές Σειρές\n19:50 400μ. ΑΝΔΡΩΝ Τελικές Σειρές\n20:25 400μ. ΓΥΝΑΙΚΩΝ Τελικές Σειρές \nΟι αθλητές-τριες θα πρέπει να φορούν και να αγωνίζονται ΜΟΝΟ με την επίσημη στολή (φανέλα\, σορτς και κάλτσες) του συλλόγου στον οποίο ανήκουν. Οι υπεύθυνοι των συλλόγων θα πρέπει να βεβαιωθούν ότι οι Κανονισμοί της Διεθνούς Ομοσπονδίας Στίβου (IAAF) που αφορούν τη Διαφήμιση θα εφαρμόζονται. \nΟι δηλώσεις συμμετοχής πρέπει να σταλούν στο Σ.Ε.Γ.Α.Σ. με email το αργότερο μέχρι και την Παρασκευή 18 Ιανουαρίου 2019 και ώρα 14.00 στην ηλεκτρονική διεύθυνση entries@segas.gr (σε φόρμα συμμετοχής) \nΔικαίωμα συμμετοχής σε 2 αγωνίσματα \nΌρια για Α/Γ: \n60μ. (100μ.) : 7.24 (11.02) / 8.06 (12.59)\n200μ.: 22.37 / 25.53\n400μ.: 50.19 / 58.40\n800μ.: 1.56.54 / 2.21.19\n1500μ.: 4.05.01 / 4.49.91\n3000μ.: 9.11.14 (15.48.27 στα 5000μ.) / 10.56.76\nβάδην: 24.30 / 16.40 (52.00 / 57.00 στα 10χλμ)\n60μ.εμπ. (110/100) 15.29 / 15.16\nΎψος: 1\,91μ. / 1\,67μ.\nΕπικοντώ: 4\,85μ. / 3\,60μ.\nΜήκος: 7\,18μ. / 5\,79μ.\nΤριπλούν: 14\,62μ. / 12\,15μ.\nΣφαίρα: 14\,06μ. (16\,06μ. Εφ.) / 11\,55μ \nΕκτός από τους αθλητές που πληρούν τα όρια συμμετοχής\, οι σύλλογοι θα μπορούν να δηλώσουν και αθλητές με παραπλήσιες επιδόσεις από το προβλεπόμενο όριο ανά αγώνισμα. Σε περίπτωση που δεν συμπληρωθεί ο προβλεπόμενος αριθμός συμμετεχόντων αθλητών ανά αγώνισμα με αθλητές που έχουν επιτύχει το όριο\, τότε ο αριθμός συμμετοχής θα συμπληρώνεται από τους επόμενους αθλητές με τις καλύτερες επιδόσεις \nΠροβλεπόμενες θέσεις:\n60μ.* Α / Γ (6σ.) έως 48\n200μ. Α / Γ (5σ.) έως 25\n400μ. Α / Γ (5σ.) έως 25\n800μ. Α / Γ (3σ.) έως 30\n1.500μ. Α / Γ (2σ.) έως 30\n3.000μ. Α / Γ (1σ.) έως 15\n60μ. με Εμπόδια (2σ.) έως 16\n‘Αλματα & Ρίψεις έως 15 \nΑκόμη\, 16 αθλητές (2 σειρές) στα εμπόδια Π & Κ και 15 αθλητές σε ύψος Π\, επικοντώ Κ\, σφαιροβολία Π & Κ και 3000μ. Π & Κ \nΟι αθλητές της κατηγορίας Κ18 (Παίδων – Κορασίδων) «γεννηθέντες το 2002 & 2003» έχουν δικαίωμα συμμετοχής σε όλα τα υπόλοιπα αγωνίσματα της Ημερίδας\, που δεν είναι της κατηγορίας τους\, εφ’ όσον πληρούν τις προϋποθέσεις (όρια – προβλεπόμενος  αριθμός συμμετοχής ανά αγώνισμα). \nΑίθουσα κλήσεως: Η επιβεβαίωση συμμετοχής πρέπει να γίνει 1 ώρα και 15 λεπτά πριν την ώρα έναρξης του αγωνίσματος. Για τα κάθετα άλματα πρέπει να γίνει 1 ώρα και 30 λεπτά πριν.
URL:https://www.stivoz.gr/event/imerida-sef-2019-01-25/
CATEGORIES:Ημερολόγιο αγώνων
END:VEVENT
END:VCALENDAR