BEGIN:VCALENDAR
VERSION:2.0
PRODID:-//StivoZ.gr - ECPv5.16.4//NONSGML v1.0//EN
CALSCALE:GREGORIAN
METHOD:PUBLISH
X-WR-CALNAME:StivoZ.gr
X-ORIGINAL-URL:https://www.stivoz.gr
X-WR-CALDESC:StivoZ.gr - Εκδηλώσεις
BEGIN:VTIMEZONE
TZID:Europe/Athens
BEGIN:DAYLIGHT
TZOFFSETFROM:+0200
TZOFFSETTO:+0300
TZNAME:EEST
DTSTART:20230326T010000
END:DAYLIGHT
BEGIN:STANDARD
TZOFFSETFROM:+0300
TZOFFSETTO:+0200
TZNAME:EET
DTSTART:20231029T010000
END:STANDARD
END:VTIMEZONE
BEGIN:VEVENT
DTSTART;VALUE=DATE:20230128
DTEND;VALUE=DATE:20230129
DTSTAMP:20260419T212316
CREATED:20230119T121954Z
LAST-MODIFIED:20230131T124102Z
UID:99872-1674864000-1674950399@www.stivoz.gr
SUMMARY:ημερίδα Χειμώνας 2023 (Ρόδος)
DESCRIPTION:σχετικά θέματα:\n– www.stivoz.gr/imerida-rodos-28-1-2023/ (αποτελέσματα) \nαρχικό πρόγραμμα: \n15:30 ΑΛΜΑ ΣΕ ΜΗΚΟΣ ΌΛΩΝ ΤΩΝ ΚΑΤΗΓΟΡΙΩΝ\n16:00 60μ. Εμπόδια ΠΚΒ’- Κ14\n16:05 60μ. Εμπόδια ΠΠΒ’- Κ14\n16:15 60μ. Εμπόδια KΟΡΑΣΙΔΩΝ – Κ18\n16:25 60μ. Εμπόδια ΠΑΙΔΩΝ – Κ18\n16:35 60μ. Εμπόδια ΝΕΑΝΙΔΩΝ – Κ20 και ΓΥΝΑΙΚΩΝ\n16:40 60μ. Εμπόδια ΕΦΗΒΩΝ – Κ20 και ΑΝΔΡΩΝ\n16:45 ΑΛΜΑ ΤΡΙΠΛΟΥΝ ΟΛΩΝ ΤΩΝ ΚΑΤΗΓΟΡΙΩΝ – ΤΕΤΡΑΠΛΟΥΝ\n17:15 60μ. ΠΚ Β΄- Κ14\n17:25 60μ. ΠΚ Α΄- Κ16\n17:30 60μ. ΚΟΡΑΣΙΔΩΝ – Κ18\n17:35 60μ. ΝΕΑΝΙΔΩΝ & ΓΥΝΑΙΚΩΝ\n17:40 60μ. ΠΠ Β΄- Κ14\n17:50 60μ.ΠΠΑ΄- Κ16\n17:55 60μ. ΠΑΙΔΩΝ-Κ18 & ΕΦΗΒΩΝ -Κ20\n18:00 60μ. ΑΝΔΡΏΝ
URL:https://www.stivoz.gr/event/imerida-rodos-2023-01-28/
CATEGORIES:Ημερολόγιο αγώνων
END:VEVENT
END:VCALENDAR