BEGIN:VCALENDAR
VERSION:2.0
PRODID:-//StivoZ.gr - ECPv5.16.4//NONSGML v1.0//EN
CALSCALE:GREGORIAN
METHOD:PUBLISH
X-WR-CALNAME:StivoZ.gr
X-ORIGINAL-URL:https://www.stivoz.gr
X-WR-CALDESC:StivoZ.gr - Εκδηλώσεις
BEGIN:VTIMEZONE
TZID:Europe/Athens
BEGIN:DAYLIGHT
TZOFFSETFROM:+0200
TZOFFSETTO:+0300
TZNAME:EEST
DTSTART:20260329T010000
END:DAYLIGHT
BEGIN:STANDARD
TZOFFSETFROM:+0300
TZOFFSETTO:+0200
TZNAME:EET
DTSTART:20261025T010000
END:STANDARD
END:VTIMEZONE
BEGIN:VEVENT
DTSTART;VALUE=DATE:20260124
DTEND;VALUE=DATE:20260125
DTSTAMP:20260420T015949
CREATED:20260114T115322Z
LAST-MODIFIED:20260124T205645Z
UID:127423-1769212800-1769299199@www.stivoz.gr
SUMMARY:ημερίδα (Πάτρα)
DESCRIPTION:Σχετικά θέματα:\n– https://www.stivoz.gr/imerida-patra-24-1-2026/ (αποτελέσματα) \nΠρόγραμμα (αν.14/1) \n13.00 ΥΨΟΣ ΓΥΝΑΙΚΩΝ & Κ16 ΚΟΡΙΤΣΙΩΝ\n14.00 ΥΨΟΣ ΑΝΔΡΩΝ & Κ16 ΑΓΟΡΙΩΝ\n14.00 ΜΗΚΟΣ Κ16 ΑΓΟΡΙΩΝ\n14.45 ΜΗΚΟΣ Κ16 ΚΟΡΙΤΣΙΩΝ\n15.00 60Μ ΕΜΠ Κ20 ΑΝΔΡΩΝ\n15.05 60Μ ΕΜΠ Κ18 ΑΝΔΡΩΝ\n15.15 60Μ ΕΜΠ ΓΥΝΑΙΚΩΝ\n15.15 ΚΟΝΤΩ ΑΝΔΡΩΝ & ΓΥΝΑΙΚΩΝ\n15.20 60Μ ΕΜΠ Κ16 ΑΓΟΡΙΩΝ\n15.30 60Μ ΕΜΠ Κ18 ΓΥΝΑΙΚΩΝ\n15.40 60Μ ΕΜΠ Κ16 ΚΟΡΙΤΣΙΩΝ\n16.00 ΜΗΚΟΣ ΑΝΔΡΩΝ\n16.20 60Μ ΓΥΝΑΙΚΩΝ\n16.45 60Μ ΑΝΔΡΩΝ\n17.10 ΜΗΚΟΣ ΓΥΝΑΙΚΩΝ\n17.20 60Μ ΓΥΝΑΙΚΩΝ (τελικός)\n17.25 60Μ ΑΝΔΡΩΝ (τελικός)\n17.30 60Μ ΚΟΡΙΤΣΙΩΝ Κ16\n18.00 60Μ ΑΓΟΡΙΩΝ Κ16 \nΟι δηλώσεις συμμετοχής πρέπει να σταλούν με email μέχρι και την ΤΡΙΤΗ 20 ΙΑΝΟΥΑΡΙΟΥ στην ηλεκτρονική διεύθυνση segaspatra_entries@yahoo.com
URL:https://www.stivoz.gr/event/imerida-patra-2026-01-24/
CATEGORIES:Ημερολόγιο αγώνων
END:VEVENT
END:VCALENDAR