BEGIN:VCALENDAR
VERSION:2.0
PRODID:-//StivoZ.gr - ECPv5.16.4//NONSGML v1.0//EN
CALSCALE:GREGORIAN
METHOD:PUBLISH
X-WR-CALNAME:StivoZ.gr
X-ORIGINAL-URL:https://www.stivoz.gr
X-WR-CALDESC:StivoZ.gr - Εκδηλώσεις
BEGIN:VTIMEZONE
TZID:Europe/Athens
BEGIN:STANDARD
TZOFFSETFROM:+0200
TZOFFSETTO:+0200
TZNAME:EET
DTSTART:20120101T000000
END:STANDARD
END:VTIMEZONE
BEGIN:VEVENT
DTSTART;VALUE=DATE:20120211
DTEND;VALUE=DATE:20260423
DTSTAMP:20260422T140814
CREATED:20120206T113824Z
LAST-MODIFIED:20191230T140508Z
UID:28635-1328918400-0@www.stivoz.gr
SUMMARY:ημερίδα (Πάτρα)
DESCRIPTION:Σχετικά θέματα:\n– www.stivoz.com/forum/showthread.php?6249 \nΠρόγραμμα: \n15.45    Επί κοντώ (Κ)\n16.00    Μήκος (Μίνι αγοριών)\n16.15    50 μ. (Μίνι κοριτσιών)\n16.25    50 μ. (ΠΚΒʼ)\n16.30    Υψος Α-Π-ΠΠΑ΄- ΠΠΒʼ\n16.35 Μήκος ΠΚΒ΄- Μίνι κοριτσιών\n16.35    50 μ. Μίνι Αγ.\,\n16.45    50 μ.    ΠΠΒ΄\n16.55    60 μ.    ΠΚΑ΄\n17.05    60 μ. (Κ)\n17.15    60 μ. (Γ)\,\n17.15 Μήκος (Γ-Κ- ΠΚΑ΄)\n17.25    60 μ. (ΠΠΑ ‘)\n17.30    Υψος (Γ-Κ- ΠΚΑ ‘ – ΠΚΒ’)\n17.35    60 μ. (Π)\n17.45    60 μ. (Α)\n18.00    60 μ. εμπ. (Α)\n18.10    60 μ. εμπ. (Γ)\n18.15    Μήκος (Α- Π- ΠΠΑ΄)\n18.20    60 μ. εμπ. (Α)\n18.30    60 μ. εμπ. (Κ)\n18.40    60 μ. εμπ. (ΠΠΑ )\n18.50    60 μ. εμπ. (ΠΚΑ΄)
URL:https://www.stivoz.gr/event/imerida-patra-2012-02-11/
CATEGORIES:Ημερολόγιο αγώνων
END:VEVENT
END:VCALENDAR