BEGIN:VCALENDAR
VERSION:2.0
PRODID:-//StivoZ.gr - ECPv5.16.4//NONSGML v1.0//EN
CALSCALE:GREGORIAN
METHOD:PUBLISH
X-WR-CALNAME:StivoZ.gr
X-ORIGINAL-URL:https://www.stivoz.gr
X-WR-CALDESC:StivoZ.gr - Εκδηλώσεις
BEGIN:VTIMEZONE
TZID:Europe/Athens
BEGIN:STANDARD
TZOFFSETFROM:+0200
TZOFFSETTO:+0200
TZNAME:EET
DTSTART:20100101T000000
END:STANDARD
END:VTIMEZONE
BEGIN:VEVENT
DTSTART;VALUE=DATE:20100217
DTEND;VALUE=DATE:20260420
DTSTAMP:20260419T154749
CREATED:20100209T195526Z
LAST-MODIFIED:20191230T140818Z
UID:28388-1266364800-0@www.stivoz.gr
SUMMARY:ημερίδα Πάτρα
DESCRIPTION:4.00 ΜΗΚΟΣ ΠΠΒ΄- ΜΙΝΙ ΑΓΟΡΙΩΝ\n4.15 50μ ΜΙΝΙ ΚΟΡΙΤΣΙΩΝ\n4.25 50μ ΠΚΒ΄\n4.35 50μ ΜΙΝΙ ΑΓΟΡΙΩΝ\nΜΗΚΟΣ ΠΚΒ΄ – ΜΙΝΙ ΚΟΡΙΤΣΙΩΝ\n4.45 50μ ΠΠΒ΄\nΥΨΟΣ Α – Π – ΠΠΑ΄- ΠΠΒ΄\n4.55 60μ ΠΚΑ΄\n5.05 60μ ΚΟΡΑΣΙΔΩΝ\n5.15 60μ ΓΥΝΑΙΚΩΝ\nΜΗΚΟΣ Α – Π – ΠΠΑ΄\n5.25 60μ ΠΠΑ΄\n5.35 60μ ΠΑΙΔΩΝ\n5.45 60μ ΑΝΔΡΩΝ\n6.00 60μ ΕΜΠ ΑΝΔΡΩΝ\n6.05 ΥΨΟΣ Γ – Κ – ΠΚΑ΄- ΠΚΒ΄\n6.10 60μ ΕΜΠ ΓΥΝΑΙΚΩΝ\n6.15 ΜΗΚΟΣ Γ – Κ – ΠΚΑ΄\n6.20 60μ ΕΜΠ ΠΑΙΔΩΝ\n6.30 60μ ΕΜΠ ΚΟΡΑΣΙΔΩΝ\n6.40 60μ ΕΜΠ ΠΠΑ΄\n6.50 60μ ΕΜΠ ΠΚΑ΄\n6.55 ΤΡΙΠΛΟΥΝ Γ – Κ\n7.15 ΤΡΙΠΛΟΥΝ Α – Π – ΠΠΑ΄  \nΜετά την οριστικοποίηση των συμμετοχών και ανάλογα με την αριθμητική δήλωση των αθλητών -τριών\, ενδεχομένως να υπάρξει τροποποίηση του προγράμματος.
URL:https://www.stivoz.gr/event/imerida-patra-2010-02-17/
CATEGORIES:Ημερολόγιο αγώνων
END:VEVENT
END:VCALENDAR