BEGIN:VCALENDAR
VERSION:2.0
PRODID:-//StivoZ.gr - ECPv5.16.4//NONSGML v1.0//EN
CALSCALE:GREGORIAN
METHOD:PUBLISH
X-WR-CALNAME:StivoZ.gr
X-ORIGINAL-URL:https://www.stivoz.gr
X-WR-CALDESC:StivoZ.gr - Εκδηλώσεις
BEGIN:VTIMEZONE
TZID:Europe/Athens
BEGIN:DAYLIGHT
TZOFFSETFROM:+0200
TZOFFSETTO:+0300
TZNAME:EEST
DTSTART:20260329T010000
END:DAYLIGHT
BEGIN:STANDARD
TZOFFSETFROM:+0300
TZOFFSETTO:+0200
TZNAME:EET
DTSTART:20261025T010000
END:STANDARD
END:VTIMEZONE
BEGIN:VEVENT
DTSTART;VALUE=DATE:20260124
DTEND;VALUE=DATE:20260125
DTSTAMP:20260420T020147
CREATED:20260114T115236Z
LAST-MODIFIED:20260124T205813Z
UID:127427-1769212800-1769299199@www.stivoz.gr
SUMMARY:ημερίδα Α/Γ (Παιανία)
DESCRIPTION:κατ.F \nΣχετικά θέματα:\n– https://www.stivoz.gr/imerida-paiania-24-1-2026/ (αποτελέσματα) \nΠρόγραμμα (αν.23/1) \n10:30 60μ. με Εμπόδια Κ18 ΓΥΝΑΙΚΩΝ\n10:55 60μ. με Εμπόδια ΓΥΝΑΙΚΩΝ\n11:10 60μ. με Εμπόδια Κ18 ΑΝΔΡΩΝ\n11:25 60μ. με Εμπόδια Κ20 ΑΝΔΡΩΝ\n11:30 Άλμα Τριπλούν ΑΝΔΡΩΝ\n11:35 60μ. με Εμπόδια ΑΝΔΡΩΝ\n11:50 60μ. ΑΝΔΡΩΝ Προκριμ.\n12:30 Άλμα Επί Κοντώ ΓΥΝΑΙΚΩΝ\n12:50 60μ. ΓΥΝΑΙΚΩΝ Προκριμ.\n13:30 Άλμα σε Ύψος ΑΝΔΡΩΝ\n13:30 Άλμα σε Μήκος ΓΥΝΑΙΚΩΝ\n13:50 600μ. ΑΝΔΡΩΝ\n14:05 600μ. ΓΥΝΑΙΚΩΝ\n14:20 2.000μ. ΑΝΔΡΩΝ\n14:30 2.000μ. ΓΥΝΑΙΚΩΝ\n14:40 60μ. ΑΝΔΡΩΝ Τελικός\n14:50 60μ. ΓΥΝΑΙΚΩΝ Τελικός\n15:00 Σφαιροβολία ΓΥΝΑΙΚΩΝ\n15:00 150μ. ΑΝΔΡΩΝ\n15:45 Άλμα σε Μήκος ΑΝΔΡΩΝ\n16:00 150μ. ΓΥΝΑΙΚΩΝ\n16:00 Άλμα Επί Κοντώ ΑΝΔΡΩΝ\n16:55 1.000μ. ΑΝΔΡΩΝ\n17:00 Άλμα σε Ύψος ΓΥΝΑΙΚΩΝ\n17:00 Σφαιροβολία ΑΝΔΡΩΝ & K20 A\n17:20 1.000μ. ΓΥΝΑΙΚΩΝ\n17:30 Άλμα σε Μήκος ΑΝΔΡΩΝ\n17:30 400μ. ΑΝΔΡΩΝ\n18:05 400μ. ΓΥΝΑΙΚΩΝ \n(Η επιλογή των αθλητών – αθλητριών σύμφωνα με την αριθμητική συμμετοχή ανα αγώνισμα θα γίνεται σύμφωνα με τις καλύτερες επιδόσεις ανοικτού στίβου του 2025 καθώς και τις καλύτερες επιδόσεις στις ημερίδες κλειστού στίβου για το 2026\, που θα διεξαχθούν μέχρι την ημερομηνία υποβολής των δηλώσεων συμμετοχή) \nΟι δηλώσεις συμμετοχής πρέπει να σταλούν στον Σ.Ε.Γ.Α.Σ. με email το αργότερο μέχρι και τη Δευτέρα 19 Ιανουαρίου 2026 και ώρα 14.00 στην ηλεκτρονική διεύθυνση entries@segas.gr.
URL:https://www.stivoz.gr/event/imerida-paiania-2026-01-24/
LOCATION:Κλειστό Παιανίας\, Ολυμπιακές εγκαταστάσεις - Κλειστό Γυμναστήριο Παιανίας\, Αττική - Παιανία\, 19400
CATEGORIES:Ημερολόγιο αγώνων
END:VEVENT
END:VCALENDAR