BEGIN:VCALENDAR
VERSION:2.0
PRODID:-//StivoZ.gr - ECPv5.16.4//NONSGML v1.0//EN
CALSCALE:GREGORIAN
METHOD:PUBLISH
X-WR-CALNAME:StivoZ.gr
X-ORIGINAL-URL:https://www.stivoz.gr
X-WR-CALDESC:StivoZ.gr - Εκδηλώσεις
BEGIN:VTIMEZONE
TZID:Europe/Athens
BEGIN:STANDARD
TZOFFSETFROM:+0200
TZOFFSETTO:+0200
TZNAME:EET
DTSTART:20100101T000000
END:STANDARD
END:VTIMEZONE
BEGIN:VEVENT
DTSTART;VALUE=DATE:20100213
DTEND;VALUE=DATE:20260425
DTSTAMP:20260424T160131
CREATED:20100122T213814Z
LAST-MODIFIED:20191230T140829Z
UID:28385-1266019200-0@www.stivoz.gr
SUMMARY:ημερίδα Παιανία
DESCRIPTION:Σχετικά θέματα:\nhttp://www.stivoz.com/forum/showthread.php?t=3734\nhttp://www.stivoz.gr/?p=17288 (αποτελέσματα) \n15.30 ΕΠΙ ΚΟΝΤΩ ΑΝΔΡΩΝ\n15.30 ΣΦΑΙΡΟΒΟΛΙΑ ΠΑΙΔΩΝ\n15.30 60μ.εμπόδια ΠΑΙΔΩΝ\n15.45 60μ.εμπόδια ΑΝΔΡΩΝ\n16.00 60μ.εμπόδια ΓΥΝΑΙΚΩΝ\n16.00 ΜΗΚΟΣ ΑΝΔΡΩΝ\n16.15 60μ. ΓΥΝΑΙΚΩΝ–ΚΟΡΑΣΙΔΩΝ\n16.30 ΥΨΟΣ ΑΝΔΡΩΝ\n16.50 60μ. ΑΝΔΡΩΝ\n17.15 ΜΗΚΟΣ ΓΥΝΑΙΚΩΝ\n17.15 ΣΦΑΙΡΟΒΟΛΙΑ ΓΥΝΑΙΚΩΝ\n17.20 3.000μ. ΑΝΔΡΩΝ\n17.30 ΕΠΙ ΚΟΝΤΩ ΓΥΝΑΙΚΩΝ\n17.40 3.000μ. ΓΥΝΑΙΚΩΝ\n18.00 400μ. ΓΥΝΑΙΚΩΝ–ΚΟΡΑΣΙΔΩΝ\n18.20 400μ. ΑΝΔΡΩΝ\n18.20 ΥΨΟΣ ΓΥΝΑΙΚΩΝ\n18.20 ΤΡΙΠΛΟΥΝ ΑΝΔΡΩΝ\n18.50 ΣΦΑΙΡΟΒΟΛΙΑ ΑΝΔΡΩΝ\n18.50 800μ. ΑΝΔΡΩΝ\n19.10 800μ. ΓΥΝΑΙΚΩΝ\n19.30 ΤΡΙΠΛΟΥΝ ΓΥΝΑΙΚΩΝ\n19.30 1.500μ. ΑΝΔΡΩΝ\n19.45 1.500μ. ΓΥΝΑΙΚΩΝ \nΔιαδοχικά ύψη\nΕπικοντώ Α:\n4.60μ. – 4.80μ. – 4.90μ. – 5.00μ. – 5.10μ. – 5.20μ. & ανά 5 εκ.\nΕπικοντώ Γ  :\n3.40μ. –3.60μ.  – 3.80 – 3.90μ.- 4.00 & ανά 5 εκ.\nΥψος  Α :\n1.95μ. – 2.00μ. – 2.05μ. – 2.10μ. – 2.15μ. – 2.18μ. – 2.21μ. – 2.24μ. & ανά 2 εκ.\nΥψος Γ :\n1.65μ. – 1.70μ. – 1.75μ.  – 1.80μ. – 1.84μ.   & ανά 2 εκ.
URL:https://www.stivoz.gr/event/imerida-paiania-2010-02-13/
CATEGORIES:Ημερολόγιο αγώνων
END:VEVENT
END:VCALENDAR