BEGIN:VCALENDAR
VERSION:2.0
PRODID:-//StivoZ.gr - ECPv5.16.4//NONSGML v1.0//EN
CALSCALE:GREGORIAN
METHOD:PUBLISH
X-WR-CALNAME:StivoZ.gr
X-ORIGINAL-URL:https://www.stivoz.gr
X-WR-CALDESC:StivoZ.gr - Εκδηλώσεις
BEGIN:VTIMEZONE
TZID:Europe/Athens
BEGIN:STANDARD
TZOFFSETFROM:+0200
TZOFFSETTO:+0200
TZNAME:EET
DTSTART:20100101T000000
END:STANDARD
END:VTIMEZONE
BEGIN:VEVENT
DTSTART;VALUE=DATE:20100206
DTEND;VALUE=DATE:20260424
DTSTAMP:20260423T035558
CREATED:20100122T213801Z
LAST-MODIFIED:20191230T140836Z
UID:28384-1265414400-0@www.stivoz.gr
SUMMARY:ημερίδα Παιανία
DESCRIPTION:Σχετικά θέματα:\nhttp://www.stivoz.gr/?p=10771\nhttp://www.stivoz.gr/?p=17287 (αποτελέσματα)\nhttp://www.stivoz.com/photoz/index.php?c=81 (φωτογραφίες) \n14.30 3.000μ βάδην Γ-Κ\n14.50 5.000μ βάδην Α-Π\n15.00 σφαίρα Ε (6κ)\n15.00 Μήκος Π\,\n15.30 Επί κοντώ Α\,\n15.30 60μ εμπόδια Γ\n15.45 60μ εμπόδια Α\n16.00 60μ εμπόδια Κ\n16.30 Ύψος Α\,\n16.30 μήκος Γ\,\n16.30 60μ Γ\n16.50 60μ Α-Π\n17.15 Μήκος Α\,\n17.15 σφαίρα Γ-Κ\n17.30 Επί κοντώ Γ\,\n17.30 200μ Π\n17.45 200μ Κ\n18.00 400μ Γ\n18.20 400μ Α\,\n18.20 ύψος Γ\n18.30 Τριπλούν Γ\,\n18.30 σφαίρα Α\n18.50 1.500μ Γ-Κ\n19.10 1.500μ Α-Π\n19.15 Τριπλούν Α\n19.30 800μ Γ-Κ\n19.50 800μ Α-Π
URL:https://www.stivoz.gr/event/imerida-paiania-2010-02-06/
CATEGORIES:Ημερολόγιο αγώνων
END:VEVENT
END:VCALENDAR