BEGIN:VCALENDAR
VERSION:2.0
PRODID:-//StivoZ.gr - ECPv5.16.4//NONSGML v1.0//EN
CALSCALE:GREGORIAN
METHOD:PUBLISH
X-WR-CALNAME:StivoZ.gr
X-ORIGINAL-URL:https://www.stivoz.gr
X-WR-CALDESC:StivoZ.gr - Εκδηλώσεις
BEGIN:VTIMEZONE
TZID:Europe/Athens
BEGIN:STANDARD
TZOFFSETFROM:+0200
TZOFFSETTO:+0200
TZNAME:EET
DTSTART:20100101T000000
END:STANDARD
END:VTIMEZONE
BEGIN:VEVENT
DTSTART;VALUE=DATE:20100130
DTEND;VALUE=DATE:20260424
DTSTAMP:20260423T110203
CREATED:20100122T213740Z
LAST-MODIFIED:20191230T140922Z
UID:28383-1264809600-0@www.stivoz.gr
SUMMARY:ημερίδα
DESCRIPTION:Σχετικά link\nhttp://www.stivoz.gr/?p=10773\nhttp://www.stivoz.gr/?p=17285 (αποτελέσματα Παιανίας)\nhttp://www.stivoz.gr/?p=17285 (αποτελ. Θεσ/νικης)\nhttp://www.stivoz.com/photoz/index.php?c=80 (φωτογραφίες Παιανίας) \n15.00 Επί κοντώ Π\,\n15.00 Μήκος Α-Π\n15.00 ύψος Κ\,\n15.00 200μ. Κ\n15.15 Σφαιροβολία Π\n15.20 200μ. Π\n16.00 60μ. εμπόδια Κ\n16.10 60μ. εμπόδια Γ\n16.20 60μ. εμπόδια Π\n16.30 60μ. εμπόδια Α\,\n16.30 Μήκος Γ-Κ\n16.45 Ύψος Α-Π\,\n16.45 Σφαιροβολία Γ-Κ\n16.50 60μ. Α-Π\n17.00 Επί κοντώ Α\n17.30 60μ. Γ-Κ\n18.00 Τριπλούν Γ-Κ\n18.00 200μ. Γ\,\n18.20 200μ. Α\,\n18.20 Ύψος Γ\n18.45 Σφαιροβολία Α\n19.00 Επί κοντώ Γ-Κ\,\n19.00 400μ. Α-Π\n19.20 400μ. Γ-Κ\n19.30 Τριπλούν Α-Π\n19.40 800μ. Γ-Κ\n19.50 800μ. Α-Π
URL:https://www.stivoz.gr/event/imerida-paiania-2010-01-30/
CATEGORIES:Ημερολόγιο αγώνων
END:VEVENT
END:VCALENDAR