BEGIN:VCALENDAR
VERSION:2.0
PRODID:-//StivoZ.gr - ECPv5.16.4//NONSGML v1.0//EN
CALSCALE:GREGORIAN
METHOD:PUBLISH
X-WR-CALNAME:StivoZ.gr
X-ORIGINAL-URL:https://www.stivoz.gr
X-WR-CALDESC:StivoZ.gr - Εκδηλώσεις
BEGIN:VTIMEZONE
TZID:Europe/Athens
BEGIN:STANDARD
TZOFFSETFROM:+0200
TZOFFSETTO:+0200
TZNAME:EET
DTSTART:20090101T000000
END:STANDARD
END:VTIMEZONE
BEGIN:VEVENT
DTSTART;VALUE=DATE:20090207
DTEND;VALUE=DATE:20260422
DTSTAMP:20260421T171536
CREATED:20090201T135701Z
LAST-MODIFIED:20191230T140959Z
UID:28257-1233964800-0@www.stivoz.gr
SUMMARY:Ημερίδα Α/Γ
DESCRIPTION:Σχετικά θέματα:\nhttp://www.stivoz.gr/?p=17274\nhttp://www.stivoz.gr/?p=17274 (αποτελέσματα) \n15.30 Επί κοντώ Α\,\n15.30 60μ εμπόδια Γ\n15.45 60μ εμπόδια Α\n16.00 Ύψος Α\,\n16.00 Μήκος Γ\n16.30 60μ Γ\n16.50 60μ Α\n17.15 Μήκος Α\,\n17.15 Σφαιροβολία Γ\n17.30 Επί κοντώ Γ\,\n17.30 200μ Γ\n17.45 200μ Α\n18.00 Ύψος Γ\,\n18.00 400μ Γ\n18.20 400μ Α\n18.30 Σφαιροβολία Α (εφήβων σφαίρα 6κ)\,\n18.30 Τριπλούν Γ\n18.45 800μ Γ\n19.00 800μ Α\n19.15 1.500μ Γ\n19.30 1.500μ Α
URL:https://www.stivoz.gr/event/imerida-paiania-2009-02-07/
CATEGORIES:Ημερολόγιο αγώνων
END:VEVENT
END:VCALENDAR