BEGIN:VCALENDAR
VERSION:2.0
PRODID:-//StivoZ.gr - ECPv5.16.4//NONSGML v1.0//EN
CALSCALE:GREGORIAN
METHOD:PUBLISH
X-WR-CALNAME:StivoZ.gr
X-ORIGINAL-URL:https://www.stivoz.gr
X-WR-CALDESC:StivoZ.gr - Εκδηλώσεις
BEGIN:VTIMEZONE
TZID:Europe/Athens
BEGIN:STANDARD
TZOFFSETFROM:+0200
TZOFFSETTO:+0200
TZNAME:EET
DTSTART:20090101T000000
END:STANDARD
END:VTIMEZONE
BEGIN:VEVENT
DTSTART;VALUE=DATE:20090131
DTEND;VALUE=DATE:20260422
DTSTAMP:20260421T120743
CREATED:20090106T143510Z
LAST-MODIFIED:20191230T141025Z
UID:28276-1233360000-0@www.stivoz.gr
SUMMARY:ημερίδα Α/Γ (Παιανία)
DESCRIPTION:Σχετικά θέματα:\nhttp://www.stivoz.gr/?p=17270\nhttp://www.stivoz.gr/?p=17270 (αποτελέσματα) \nΠΑΙΑΝΙΑ \n(δεν έχουν δικαίωμα συμμετοχής αθλητές και αθλήτριες της κατηγορίας παίδων – κορασίδων) \n15.30 Επί κοντώ Α\, Τριπλούν Γ\n15.45 60μ εμπόδια Γ\n16.00 60μ εμπόδια Α\, Ύψος Γ\n16.30 60μ Γ\n16.45 Τριπλούν Α\n16.50 60μ Α\n17.30 Σφαιροβολία Γ\, Επί κοντώ Γ\, 400μ Γ\n17.50 400μ Α\n18.00 Ύψος Α\, Μήκος Α\n18.05 800μ Γ\n18.20 800μ Α\n18.40 1.500μ Γ\n18.45 Σφαιροβολία Α\n19.00 1.500μ Α\n19.15 Μήκος Γ\, 3.000μ Γ\n19.30 3.000μ Α \nΣΕΡΡΕΣ \n17.30 50μ ΠΠ Β΄\, Μήκος Α-Π-ΠΠ Α΄\, Ύψος Κ-ΠΚ Α΄\, Σφαίρα Π-ΠΠ Α΄\n17.45 50μ ΠΚ Β΄\, Κοντώ όλων των κατηγοριών\n18.00 60μ ΠΠ Α΄\n18.10 60μ ΠΚ Α΄\n18.20 60μ Π\n18.30 60μ Κ\, Μήκος Γ-Κ\, ΠΚ Α΄\, Ύψος Π-ΠΠ Α΄\n18.40 60μ Α\n18.50 60μ Γ\n19.00 60μ εμπόδια ΠΚ Α΄\, Σφαίρα Κ-ΠΚ Α΄\n19.10 60μ εμπόδια Κ\, Τριπλούν Α-Π.ΠΠ Α΄\n19.20 60μ εμπόδια ΠΠ Α΄\n19.30 60μ εμπόδια Γ\n19.40 60μ εμπόδια Π\, Τριπλούν Γ-Κ\n19.50 60μ εμπόδια Α
URL:https://www.stivoz.gr/event/imerida-paiania-2009-01-31/
CATEGORIES:Ημερολόγιο αγώνων
END:VEVENT
END:VCALENDAR