BEGIN:VCALENDAR
VERSION:2.0
PRODID:-//StivoZ.gr - ECPv5.16.4//NONSGML v1.0//EN
CALSCALE:GREGORIAN
METHOD:PUBLISH
X-WR-CALNAME:StivoZ.gr
X-ORIGINAL-URL:https://www.stivoz.gr
X-WR-CALDESC:StivoZ.gr - Εκδηλώσεις
BEGIN:VTIMEZONE
TZID:Europe/Athens
BEGIN:STANDARD
TZOFFSETFROM:+0200
TZOFFSETTO:+0200
TZNAME:EET
DTSTART:20090101T000000
END:STANDARD
END:VTIMEZONE
BEGIN:VEVENT
DTSTART;VALUE=DATE:20090201
DTEND;VALUE=DATE:20260422
DTSTAMP:20260421T134559
CREATED:20090106T143605Z
LAST-MODIFIED:20191230T141149Z
UID:28278-1233446400-0@www.stivoz.gr
SUMMARY:Hμερίδα Π/Κ (Παιανία)
DESCRIPTION:Ημερίδα Π/Κ\, Παιανία \n15.30 60μ εμπόδια Κ\, ύψος Κ\, Επί κοντώ Π\, Τριπλούν Κ\n15.45 60μ εμπόδια Π\n16.00 800μ Π\, Σφαιροβολία Π\n16.10 800μ Κ\n16.15 Τριπλούν Π\n16.20 400μ Π\n16.35 400μ Κ\n16.45 200μ Π\n17.00 Ύψος Π\, Μήκος Π\n17.10 200μ Κ\n17.15 Επί κοντώ Κ\, Σφαιροβολία Κ\n17.30 60μ Π\n17.50 60μ Κ\n18.00 Μήκος Κ\n18.05 1.500μ Π\n18.15 1.500μ Κ\n18.25 3.000μ Π\n18.40 3.000μ Κ \nΗμερίδα Αλμάτων στο Ηράκλειο (Παγκρήτιο) \n14.00 Μήκος ΠΚ Μίνι\n14.40 Μήκος ΠΠ Μίνι\n15.15 Μήκος ΠΚ Β΄\, Ύψος Γ-ΠΚ Β΄\n16.00 Μήκος ΠΠ Β΄\n16.30 Ύψος Α-ΠΠ Β΄\n16.40 Μήκος Γ\n17.30 Μήκος Α\n18.15 Τριπλούν Α-Γ
URL:https://www.stivoz.gr/event/imerida-p-k-paiania-2009-02-01/
CATEGORIES:Ημερολόγιο αγώνων
END:VEVENT
END:VCALENDAR