BEGIN:VCALENDAR
VERSION:2.0
PRODID:-//StivoZ.gr - ECPv5.16.4//NONSGML v1.0//EN
CALSCALE:GREGORIAN
METHOD:PUBLISH
X-WR-CALNAME:StivoZ.gr
X-ORIGINAL-URL:https://www.stivoz.gr
X-WR-CALDESC:StivoZ.gr - Εκδηλώσεις
BEGIN:VTIMEZONE
TZID:Europe/Athens
BEGIN:STANDARD
TZOFFSETFROM:+0200
TZOFFSETTO:+0200
TZNAME:EET
DTSTART:20130101T000000
END:STANDARD
END:VTIMEZONE
BEGIN:VEVENT
DTSTART;VALUE=DATE:20130119
DTEND;VALUE=DATE:20260423
DTSTAMP:20260422T052637
CREATED:20130116T131856Z
LAST-MODIFIED:20191230T140300Z
UID:28760-1358553600-0@www.stivoz.gr
SUMMARY:ημερίδα (ΟΑΚΑ)
DESCRIPTION:15.00 επί κοντώ (Γ)\, (για αθλήτριες με ρεκόρ έως 3\,50μ θα γίνει την Παρασκευή 18/1 στις 17.00)\n15.00 Υψος (Γ)\,\n15.00 Τριπλούν (Γ)\n16.00 Μήκος (Α)\n16.30 Επί κοντώ (Α)\n16.30 Υψος (Α)\,\n17.00 Μήκος (Γ)\n18.00 Τριπλούν (Α) \nμε συμμετοχή επίλεκτων αθλητών
URL:https://www.stivoz.gr/event/imerida-oaka-2013-01-19/
CATEGORIES:Ημερολόγιο αγώνων
END:VEVENT
END:VCALENDAR