BEGIN:VCALENDAR
VERSION:2.0
PRODID:-//StivoZ.gr - ECPv5.16.4//NONSGML v1.0//EN
CALSCALE:GREGORIAN
METHOD:PUBLISH
X-WR-CALNAME:StivoZ.gr
X-ORIGINAL-URL:https://www.stivoz.gr
X-WR-CALDESC:StivoZ.gr - Εκδηλώσεις
BEGIN:VTIMEZONE
TZID:Europe/Athens
BEGIN:STANDARD
TZOFFSETFROM:+0200
TZOFFSETTO:+0200
TZNAME:EET
DTSTART:20160101T000000
END:STANDARD
END:VTIMEZONE
BEGIN:VEVENT
DTSTART;VALUE=DATE:20160124
DTEND;VALUE=DATE:20260420
DTSTAMP:20260419T235957
CREATED:20160118T112346Z
LAST-MODIFIED:20191230T134950Z
UID:29081-1453593600-0@www.stivoz.gr
SUMMARY:ημερίδα κατηγοριών (Αγ.Κοσμάς)
DESCRIPTION:Σχετικά θέματα:\n– www.stivoz.com/content.php?5320-To-adiaxorito-ston-Agio-Kosma\n– www.stivoz.com/forum/showthread.php?14611 (αποτελέσματα) \nΝέο Πρόγραμμα Κυριακής: \n15:00	ΑΛΜΑ ΣΕ ΥΨΟΣ ΠΚ Β΄\n15:00 ΑΛΜΑ ΣΕ ΜΗΚΟΣ ΜΙΝΙ Κ\n15:00 ΑΛΜΑ ΕΠΙ ΚΟΝΤΩ  ΠΠ Α΄\n15:00 ΣΦΑΙΡΟΒΟΛΙΑ ΠΠ Β΄\n15:00	50μ. ΜΙΝΙ Κ\n15:30	50μ. ΜΙΝΙ Α\n15:50 ΑΛΜΑ ΣΕ ΜΗΚΟΣ ΜΙΝΙ Α\n15:50	60μ. ΠΠ Β΄\n16:00 ΑΛΜΑ ΣΕ ΥΨΟΣ ΠΠ Β΄\n16:00 ΣΦΑΙΡΟΒΟΛΙΑ ΠΚ Β΄\n16:10	60μ. ΠΚ Β΄\n16:40 ΑΛΜΑ ΣΕ ΜΗΚΟΣ ΠΚ Β΄\n16:50	60μ. ΠΠ Α΄\n17:00 ΑΛΜΑ ΣΕ ΥΨΟΣ ΠΠΑʼ\n17:15	60μ. ΠΚ Α΄\n17:15 ΣΦΑΙΡΟΒΟΛΙΑ ΠΠ Α΄\n17:20 ΑΛΜΑ ΕΠΙ ΚΟΝΤΩ  ΠΚ Α΄\n17:40 ΑΛΜΑ ΣΕ ΜΗΚΟΣ ΠΠ Β΄\n18:00 ΑΛΜΑ ΣΕ ΥΨΟΣ ΠΚΑʼ\n18:00	60μ. Εμπόδια ΠΚΑʼ\n18:15	60μ. Εμπόδια ΠΠΑʼ\n18:15 ΣΦΑΙΡΟΒΟΛΙΑ ΠΚ Αʼ\n18:30		ΑΛΜΑ ΣΕ ΜΗΚΟΣ ΠΠΑʼ\n18:30	150 ΠΠΑʼ\n18:50	150 ΠΚΑʼ\n19:15		ΑΛΜΑ ΣΕ ΜΗΚΟΣ ΠΚΑʼ \nΟι αθλητές –τριες της κατηγορίας των ΜΙΝΙ\, ΠΠΒ΄- ΠΚΒ΄ & ΠΠ-ΠΚ Α΄ μπορούν να αγωνιστούν ΜΟΝΟ σε ΕΝΑ (1) αγώνισμα\, στις υπόλοιπες κατηγόριες ΜΟΝΟ σε ΔΥΟ (2) αγωνίσματα.  \nΟι δηλώσεις συμμετοχής  πρέπει να σταλούν με email μέχρι την Τετάρτη 20 Ιανουαρίου 2016 και ώρα 14:00 στην Ε.Α.Σ. Σ.Ε.Γ.Α.Σ. Πειραιά και Νοτιοδυτικής Αττικής\,\nστις ηλεκτρονικές διευθύνσεις segaspeiraia@gmail.com και smatakis@gmail.com\, προκειμένου να οριστικοποιηθεί και κοινοποιηθεί το ωρολόγιο πρόγραμμα της Ημερίδας.\nΜετά την παρέλευση της προθεσμίας αυτής δε θα γίνεται δεκτή καμία δήλωση συμμετοχής
URL:https://www.stivoz.gr/event/imerida-katigorion-ag-kosmas-2016-01-24/
CATEGORIES:Ημερολόγιο αγώνων
END:VEVENT
END:VCALENDAR