BEGIN:VCALENDAR
VERSION:2.0
PRODID:-//StivoZ.gr - ECPv5.16.4//NONSGML v1.0//EN
CALSCALE:GREGORIAN
METHOD:PUBLISH
X-WR-CALNAME:StivoZ.gr
X-ORIGINAL-URL:https://www.stivoz.gr
X-WR-CALDESC:StivoZ.gr - Εκδηλώσεις
BEGIN:VTIMEZONE
TZID:Europe/Athens
BEGIN:STANDARD
TZOFFSETFROM:+0200
TZOFFSETTO:+0200
TZNAME:EET
DTSTART:20160101T000000
END:STANDARD
END:VTIMEZONE
BEGIN:VEVENT
DTSTART;VALUE=DATE:20160206
DTEND;VALUE=DATE:20260420
DTSTAMP:20260419T154800
CREATED:20160205T141331Z
LAST-MODIFIED:20191230T134835Z
UID:29086-1454716800-0@www.stivoz.gr
SUMMARY:ημερίδα (Ιεράπετρα)
DESCRIPTION:Σχετικά θέματα:\n– www.stivoz.com/forum/showthread.php?14710 (Αποτελέσματα) \nΠρόγραμμα: \n11.00 ΜΗΚΟΣ   (ΠΚ Β΄)\n11.45 ΜΗΚΟΣ   (ΠΠ Β΄)\n12.30 60 μ. Εμπ.  (ΠΠ Β΄)\n12.30 60 μ. Εμπ.  (ΠΚ Β΄)\n12.40 60 μ. Εμπ. (ΠΠ Α΄)\n12.40 60 μ. Εμπ. (Γ- K)\n12.50 60 μ. Εμπ.  (Π)\n13.00 60 Εμπ. (ΠΚ Α΄)\n13.15 60 μ. (ΠΠ  – ΠΚ Β΄)\n13.30 60 μ. (ΠΠ – ΠΚ Α΄)\n13.45 60 μ. (Π – Κ)\n13.45 60 μ. (A – Γ)\n13.45 ΣΦΑΙΡΑ (ΠΚ Α΄)\n14.15 ΜΗΚΟΣ (Γ- ΠΚ Α΄)\n14.15 ΣΦΑΙΡΑ (Π)\,\n14.15 ΣΦΑΙΡΟΒΟΛΙΑ (Κ)\n14.30 ΥΨΟΣ (Α – Γ)\n15.00 ΜΗΚΟΣ (ΠΠ Α΄)\,\n15.00 ΜΗΚΟΣ (Α)\n15.00 ΣΦΑΙΡΟΒΟΛΑ (Γ)\,\n15.00 ΣΦΑΙΡΟΒΟΛΙΑ (ΠΠ Α΄)\n15.30 ΥΨΟΣ    (Α – Γ)\n15.45ΤΡΙΠΛΟΥΝ   (Α  –  Γ)
URL:https://www.stivoz.gr/event/imerida-ierapetra-2016-02-06/
CATEGORIES:Ημερολόγιο αγώνων
END:VEVENT
END:VCALENDAR