BEGIN:VCALENDAR
VERSION:2.0
PRODID:-//StivoZ.gr - ECPv5.16.4//NONSGML v1.0//EN
CALSCALE:GREGORIAN
METHOD:PUBLISH
X-WR-CALNAME:StivoZ.gr
X-ORIGINAL-URL:https://www.stivoz.gr
X-WR-CALDESC:StivoZ.gr - Εκδηλώσεις
BEGIN:VTIMEZONE
TZID:Europe/Athens
BEGIN:DAYLIGHT
TZOFFSETFROM:+0200
TZOFFSETTO:+0300
TZNAME:EEST
DTSTART:20120325T010000
END:DAYLIGHT
BEGIN:STANDARD
TZOFFSETFROM:+0300
TZOFFSETTO:+0200
TZNAME:EET
DTSTART:20121028T010000
END:STANDARD
END:VTIMEZONE
BEGIN:VEVENT
DTSTART;VALUE=DATE:20120526
DTEND;VALUE=DATE:20120528
DTSTAMP:20260419T193813
CREATED:20120509T213026Z
LAST-MODIFIED:20181208T172840Z
UID:28647-1338026400-1338148800@www.stivoz.gr
SUMMARY:ημερίδα "Γ΄Χειμωνίδεια" (Θεσ/νίκη)
DESCRIPTION:Σχετικά θέματα:\n– www.stivoz.com/forum/showthread.php?6915\n– www.stivoz.com/forum/showthread.php?6902 (αποτελέσματα) \nΣΑΒΒΑΤΟ  26  ΜΑΙΟΥ 2012      \nΠΡΩΙΝΗ ΠΕΡΙΟΔΟΣ \n10:00	100μ. Δεκάθλου\n10:20	100μ. εμπ. Επτάθλου\n10:20 ΣΦΥΡΟΒΟΛΙΑ (Γ)\n10:30	600μ. (ΠΚ-Α)\n10:30 Μήκος Δεκάθλου   (Α+Β Γκρουπ)	 \n10:30 ΣΦΑΙΡΟΒΟΛΙΑ (Γ)	 2 σκάμματα\n10:50	600μ. (ΠΠ-Α)\n11:00	800μ. (Π)\n11:00 Ύψος Επτάθλου 2 στρώματα\n11:10	4Χ80 (ΠΚ-Α)*\n11:20	4Χ80 (ΠΠ-Α)*\n11:30	300μ. Εμπ (ΠΚ/Α)\n12:15	 Σφαιροβολία Δεκάθλου 2 βαλβίδες \nΑΠΟΓΕΥΜΑΤΙΝΗ ΠΕΡΙΟΔΟΣ \n17:00	400μ. ΕΜΠ (Α)	ΜΗΚΟΣ (Α)\n17:00 Ύψος Δεκάθλου (Α+Β Γκρουπ)\n17:00 ΔΙΣΚΟΒΟΛΙΑ (Γ)	2 στρώματα\n17:10	100μ. (Α)*	 	 ΚΟΝΤΩ (Γ-Κ-ΠΚ/Α) (Α+Β Γκρουπ) 2 στρώματα\n17:35	100μ. (Γ)*\n18:00	400μ. (Α)	ΤΡΙΠΛΟΥΝ (Α)*\n18:00 ΥΨΟΣ (Α-Π)*        (Α+Β Γκρουπ)\n18:00 Σφαιροβολία Επτάθλου\n18:30	400μ. (Γ)\n18:40	200μ.(Κ)\n18:40 ΚΟΝΤΩ (Α-Π-ΠΠ/Α) (Α+Β Γκρουπ) 2 στρώματα\n18:50	200μ. (Π)\n18:50 ΜΗΚΟΣ (Γ)\n18:50 ΥΨΟΣ (Γ)\n18:50 ΔΙΣΚΟΒΟΛΙΑ (Α)\n19:30 ΣΦΑΙΡΟΒΟΛΙΑ (Α)\n19:30	200μ. Επτάθλου\n19:40	400μ. Δεκάθλου	 	 	 	  \nΚΥΡΙΑΚΗ 27 ΜΑΪΟΥ 2012  \nΠΡΩΙΝΗ ΠΕΡΙΟΔΟΣ \n10:00	110μ. Εμπ. Δεκάθλου\n10:20	110μ. Εμπ. (Π)\n10:20 Μήκος Επτάθλου \n10:30	80μ. ΠΚ/Α **\n10:45	80μ. ΠΠ/Α **\n10:45 Δισκοβολία Δεκάθλου (Α+Β Γκρουπ)\n12:00 Κοντώ Δεκάθλου (Α+Β Γκρουπ)	2 στρώματα \nΑΠΟΓΕΥΜΑΤΙΝΗ ΠΕΡΙΟΔΟΣ \n17:00 Ακοντισμός Επτάθλου\n18:10 Kids’ Athletics: ΚΟΝΤΩ\, σε παιγνιώδη μορφή\, με το “ΣΠΑΣΤΟ ΚΟΝΤΑΡΙ” δύο στρώματα\n18:10	3000μ. Φ. Εμπ. (Α)\n18:30	800μ. (Γ)\n18:50	800μ. (Α)\n18:50 Ακοντισμός Δεκάθλου (Α+Β Γκρουπ)\n19:15	800μ. Επτάθλου\n20:00	1500μ. Δεκάθλου	 	 	 	  \nΠΑΡΑΤΗΡΗΣΕΙΣ ΓΙΑ ΤΑ Γ΄ ΧΕΙΜΩΝΙΔΕΙΑ 2012\n1	100μ. (Α)\, (Γ)*	Οι (Π) & (Κ) Δεν δικαιούνται στα 100μ.\n2	ΥΨΟΣ (Α-Π)*	Δικαιούνται και Βετεράνοι αθλητές (σε ξεχωριστό στρώμα και πινάκιο)\n3	Τριπλούν (Α)	Ένα σκάμμα\, δύο βαλβίδες (11.00μ. και 13.00μ.)\n4	Kids’ Athletics	ΚΟΝΤΩ  σε παιγνιώδη μορφή με το “Σπαστό Κοντάρι” δύο στρώματα\n5	80μ. ΠΠ/ΠΚ-Α* 	Το ανώτερο 3+3 από κάθε σύλλογο. * Δεν δικαιούνται οι ΠΠ/ΠΚ-Β (1999). \nΟι Δηλώσεις συμμετοχής πρέπει να κατατεθούν στην ΕΑΣ ΣΕΓΑΣ Θεσ/νίκης\, (Καυτανζόγλειο Στάδιο Θύρα 10)\, στο ειδικό έντυπο που επισυνάπτεται στην προκήρυξη. Επίσης μπορούν να αποσταλούν με ΦΑΞ:  2310-211799 είτε με e-mail: segasthes@ath.forthnet.gr μέχρι την Τρίτη 22-5-2012 ώρα 14:00.  \nΔιαδοχικά ύψη: \nΥΨΟΣ:\n(Α-Π)		ΣΤΡΩΜΑ 1:   1.55 (+10)\, 1.75 (+ 5)\, 2.05 (+ 4)\, 2.17 (+ 3)\nΒετεράνων*	ΣΤΡΩΜΑ 2:   1.40\, 1.50\, 1.55 (+ 5)\n(Γ)			1.40 (+ 5)\,  1.60 (+ 4)\, 1.72 (+ 3)  \nΚΟΝΤΩ:  (Α-Π-ΠΠ/Α΄)\nΣΤΡΩΜΑ  1:  3.90\, 4.10 (+15)\, 4.55 (+10)\, 5.35 (+ 5)\nΣΤΡΩΜΑ  2:  2.10 (+20)\, 2.70 (+10)\, 3.80 (+ 5) \nΚΟΝΤΩ:  (Γ-Κ-ΠΚ/Α΄)\nΣΤΡΩΜΑ  1:  2.70\, 2.90 (+10)\, 3.40 (+ 5)\nΣΤΡΩΜΑ  2:  1.80 (+20)\, 2.40 (+10)\, 2.70 (+ 5)
URL:https://www.stivoz.gr/event/imerida-g-cheimonideia-thes-niki/
CATEGORIES:Ημερολόγιο αγώνων
END:VEVENT
END:VCALENDAR