BEGIN:VCALENDAR
VERSION:2.0
PRODID:-//StivoZ.gr - ECPv5.16.4//NONSGML v1.0//EN
CALSCALE:GREGORIAN
METHOD:PUBLISH
X-WR-CALNAME:StivoZ.gr
X-ORIGINAL-URL:https://www.stivoz.gr
X-WR-CALDESC:StivoZ.gr - Εκδηλώσεις
BEGIN:VTIMEZONE
TZID:Europe/Athens
BEGIN:DAYLIGHT
TZOFFSETFROM:+0200
TZOFFSETTO:+0300
TZNAME:EEST
DTSTART:20230326T010000
END:DAYLIGHT
BEGIN:STANDARD
TZOFFSETFROM:+0300
TZOFFSETTO:+0200
TZNAME:EET
DTSTART:20231029T010000
END:STANDARD
END:VTIMEZONE
BEGIN:VEVENT
DTSTART;VALUE=DATE:20230630
DTEND;VALUE=DATE:20230701
DTSTAMP:20260422T074511
CREATED:20230630T071816Z
LAST-MODIFIED:20230728T104411Z
UID:106571-1688083200-1688169599@www.stivoz.gr
SUMMARY:ημερίδα CYP (Λευκωσία)
DESCRIPTION:Σχετικά θέματα:\n– www.stivoz.gr/imerida-leykosia-2023-2/ (αποτελέσματα) \nΠρόγραμμα: \n16:30 HT (M)\n16:30 HT (W)\n17:00 LJ (W)\n17:30 PV (M)\n17:45 5000 (M)\n18:00 DT (M)\n18:15 LJ (M)\n18:15 200 (M)\n18:30 200 (W)\n19:00 110H (M -U20)\n19:15 TJ (W)
URL:https://www.stivoz.gr/event/imerida-cyp-2023-06-30/
LOCATION:ΓΣΠ\, Λεωφόρος Παγκυπρίων\, Στρόβολος\, 21099\, Κύπρος
CATEGORIES:Ημερολόγιο αγώνων
END:VEVENT
END:VCALENDAR