BEGIN:VCALENDAR
VERSION:2.0
PRODID:-//StivoZ.gr - ECPv5.16.4//NONSGML v1.0//EN
CALSCALE:GREGORIAN
METHOD:PUBLISH
X-WR-CALNAME:StivoZ.gr
X-ORIGINAL-URL:https://www.stivoz.gr
X-WR-CALDESC:StivoZ.gr - Εκδηλώσεις
BEGIN:VTIMEZONE
TZID:Europe/Athens
BEGIN:DAYLIGHT
TZOFFSETFROM:+0200
TZOFFSETTO:+0300
TZNAME:EEST
DTSTART:20210328T010000
END:DAYLIGHT
BEGIN:STANDARD
TZOFFSETFROM:+0300
TZOFFSETTO:+0200
TZNAME:EET
DTSTART:20211031T010000
END:STANDARD
END:VTIMEZONE
BEGIN:VEVENT
DTSTART;VALUE=DATE:20210414
DTEND;VALUE=DATE:20210415
DTSTAMP:20260419T182628
CREATED:20210414T082007Z
LAST-MODIFIED:20210428T111032Z
UID:75383-1618358400-1618444799@www.stivoz.gr
SUMMARY:ημερίδα ρίψεων (Λευκωσία)
DESCRIPTION:Σχετικά θέματα:\n– www.stivoz.gr/entharryntikes-oi-protes-voles-ypsilo-epipedo-stin-kypro/\n– www.stivoz.gr/imerida-ripseon-leykosia-2021/ (αποτελέσματα) \nΠρόγραμμα: \n15:00      Σφυροβολία (ανδρών\, γυναικών\, κορασίδων)\n16:00      Σφυροβολία (εφήβων\, παίδων)\n16:00      Σφαιροβολία (ανδρών\, εφήβων\, παίδων)\n16:00      Δισκοβολία (γυναικών\, νεανίδων\, κορασίδων)\n17:00      Σφαιροβολία (γυναικών\, νεανίδων\, κορασίδων)\n17:00      Ακοντισμός (γυναικών\, κορασίδων)\n17:50      Δισκοβολία (ανδρών\, εφήβων)\n18:40      Ακοντισμός (ανδρών\, εφήβων)
URL:https://www.stivoz.gr/event/imerida-cyp-2021-04-14/
CATEGORIES:Ημερολόγιο αγώνων
END:VEVENT
END:VCALENDAR