BEGIN:VCALENDAR
VERSION:2.0
PRODID:-//StivoZ.gr - ECPv5.16.4//NONSGML v1.0//EN
CALSCALE:GREGORIAN
METHOD:PUBLISH
X-WR-CALNAME:StivoZ.gr
X-ORIGINAL-URL:https://www.stivoz.gr
X-WR-CALDESC:StivoZ.gr - Εκδηλώσεις
BEGIN:VTIMEZONE
TZID:Europe/Athens
BEGIN:STANDARD
TZOFFSETFROM:+0200
TZOFFSETTO:+0200
TZNAME:EET
DTSTART:20180101T000000
END:STANDARD
END:VTIMEZONE
BEGIN:VEVENT
DTSTART;VALUE=DATE:20180628
DTEND;VALUE=DATE:20260421
DTSTAMP:20260420T183459
CREATED:20180627T084255Z
LAST-MODIFIED:20210414T082252Z
UID:29394-1530144000-0@www.stivoz.gr
SUMMARY:ημερίδα ρίψεων (Λευκωσία)
DESCRIPTION:Εθνικό Στάδιο Στίβου ΓΣΠ \n18:15 Σφαιροβολία\, Ανδρών – Γυναικών\n19:00 Δισκοβολία\, Ανδρών – Γυναικών
URL:https://www.stivoz.gr/event/imerida-cyp-2018-06-28/
CATEGORIES:Ημερολόγιο αγώνων
END:VEVENT
END:VCALENDAR