BEGIN:VCALENDAR
VERSION:2.0
PRODID:-//StivoZ.gr - ECPv5.16.4//NONSGML v1.0//EN
CALSCALE:GREGORIAN
METHOD:PUBLISH
X-WR-CALNAME:StivoZ.gr
X-ORIGINAL-URL:https://www.stivoz.gr
X-WR-CALDESC:StivoZ.gr - Εκδηλώσεις
BEGIN:VTIMEZONE
TZID:Europe/Athens
BEGIN:STANDARD
TZOFFSETFROM:+0200
TZOFFSETTO:+0200
TZNAME:EET
DTSTART:20160101T000000
END:STANDARD
END:VTIMEZONE
BEGIN:VEVENT
DTSTART;VALUE=DATE:20160116
DTEND;VALUE=DATE:20260420
DTSTAMP:20260419T154757
CREATED:20160108T122310Z
LAST-MODIFIED:20191230T135046Z
UID:29073-1452902400-0@www.stivoz.gr
SUMMARY:ημερίδα (Αγ.Κοσμάς)
DESCRIPTION:Σχετικά θέματα:\n– www.stivoz.com/content.php?5298-Apogeiothike-o-Karalis-Xehorisan-P-Papadopoulou-kai-Pesiridou-stin-proponitiki-imerida\n– www.stivoz.com/forum/showthread.php?14570 (αποτελέσματα) \nΤελικό Πρόγραμμα: \n13:00 ΑΛΜΑ ΣΕ ΜΗΚΟΣ ΜΙΝΙ Κ\n13:00 ΑΛΜΑ ΣΕ ΥΨΟΣ ΠΚΒ΄\n13:00 ΣΦΑΙΡΟΒΟΛΙΑ ΠΠΒ΄\n13:00	50μ. ΜΙΝΙ Κ\n13:30	50μ. ΜΙΝΙ Α\n14:00 ΑΛΜΑ ΣΕ ΜΗΚΟΣ ΠΚΒ΄\n14:00 	ΑΛΜΑ ΕΠΙ ΚΟΝΤΩ  ΠΚΑ΄- Κ\n14:00 ΣΦΑΙΡΟΒΟΛΙΑ ΠΚΒ΄\n14:00	60μ. ΠΠΒ΄\n14:30	60μ. ΠΚΒ΄\n14:30 ΑΛΜΑ ΣΕ ΥΨΟΣ ΠΠ Β΄\n15:00 ΑΛΜΑ ΣΕ ΜΗΚΟΣ ΜΙΝΙ Α\n15:00 ΑΛΜΑ ΕΠΙ ΚΟΝΤΩ ΜΙΝΙ Α	 \n15:00 ΣΦΑΙΡΟΒΟΛΙΑ ΠΚΑ΄- Κ\n15:30	60μ. Εμπόδια ΠΚΑ΄\n15:45 ΣΦΑΙΡΟΒΟΛΙΑ  Γ\n15:45 ΑΛΜΑ ΣΕ ΜΗΚΟΣ ΠΠ Β΄\n15:45	60μ. Εμπόδια Κ\n15:55	60μ. Εμπόδια Γ\n16:05 ΑΛΜΑ ΣΕ ΥΨΟΣ  ΠΠ Α΄- Π\n16:05	60μ. Εμπόδια ΠΠ Α΄\n16:15	60μ. Εμπόδια Π\n16:15 ΣΦΑΙΡΟΒΟΛΙΑ Π\n16:30	60μ. Εμπόδια Ε\n16:40	60μ. Εμπόδια Α\n16:40 ΑΛΜΑ ΣΕ ΜΗΚΟΣ  ΠΠ Α΄- Π\n16:55	60μ. ΠΠ Α΄\n17:10	60μ. Π\n17:10	ΣΦΑΙΡΟΒΟΛΙΑ ΠΠΑ΄\n17:10 ΑΛΜΑ ΕΠΙ ΚΟΝΤΩ  ΠΠΑ΄- Π\n17:30 ΑΛΜΑ ΣΕ ΥΨΟΣ  ΠΚΑ΄- Κ\n17:35	60μ. Ε – Α\n17:45	ΑΛΜΑ ΣΕ ΜΗΚΟΣ  ΠΚΑ’\n18:00	60μ. ΠΚ Α΄\n18:00 ΣΦΑΙΡΟΒΟΛΙΑ Α\n18:25	60μ. Κ\n18:50	60μ. Γ\n18:50 ΣΦΑΙΡΟΒΟΛΙΑ Ε\n18:50	ΑΛΜΑ ΣΕ ΜΗΚΟΣ  Κ\n19:15	150μ. Γ\n19:25 150μ. Κ\n19:40	150μ. ΠΚΑ’\n19:55 150μ. Α\n20:10 150μ. Π\n20:30 150μ. ΠΠΑ’	 \n*Το οριστικό ωρολόγιο πρόγραμμα θα ανακοινωθεί μετά την επεξεργασία των δηλώσεων συμμετοχής των σωματείων. \nΟι αθλητές –τριες της κατηγορίας των ΜΙΝΙ\, ΠΠΒ΄- ΠΚΒ΄ & ΠΠ-ΠΚ Α΄ μπορούν να αγωνιστούν ΜΟΝΟ σε ΕΝΑ (1) αγώνισμα\, στις υπόλοιπες κατηγόριες ΜΟΝΟ σε ΔΥΟ (2) αγωνίσματα.  \nΟι δηλώσεις συμμετοχής (συνημμένη φόρμα) πρέπει να σταλούν με email μέχρι τη Τετάρτη 13 Ιανουαρίου 2016 και ώρα 14:00 στην ΕΑΣ-Σ.Ε.Γ.Α.Σ. Πειραιά και Νοτιοδυτικής Αττικής\,\nστις ηλεκτρονικές διευθύνσεις segaspeiraia@gmail.com και smatakis@gmail.com\,\nπροκειμένου να οριστικοποιηθεί και κοινοποιηθεί το ωρολόγιο πρόγραμμα της Ημερίδας. Μετά την παρέλευση της προθεσμίας αυτής δεν θα γίνεται δεκτή καμία δήλωση συμμετοχής. \nΣημείωση: Σε περίπτωση προβλήματος θα πρέπει να επικοινωνήσετε με τον Τεχνικό Σύμβουλο της ΕΑΣ ΣΕΓΑΣ κ. Στέφανο Ματάκη\, στο τηλέφωνο 6946953858.
URL:https://www.stivoz.gr/event/imerida-ag-kosmas-2016-01-16/
CATEGORIES:Ημερολόγιο αγώνων
END:VEVENT
END:VCALENDAR