BEGIN:VCALENDAR
VERSION:2.0
PRODID:-//StivoZ.gr - ECPv5.16.4//NONSGML v1.0//EN
CALSCALE:GREGORIAN
METHOD:PUBLISH
X-WR-CALNAME:StivoZ.gr
X-ORIGINAL-URL:https://www.stivoz.gr
X-WR-CALDESC:StivoZ.gr - Εκδηλώσεις
BEGIN:VTIMEZONE
TZID:Europe/Athens
BEGIN:DAYLIGHT
TZOFFSETFROM:+0200
TZOFFSETTO:+0300
TZNAME:EEST
DTSTART:20080330T010000
END:DAYLIGHT
BEGIN:STANDARD
TZOFFSETFROM:+0300
TZOFFSETTO:+0200
TZNAME:EET
DTSTART:20081026T010000
END:STANDARD
END:VTIMEZONE
BEGIN:VEVENT
DTSTART;VALUE=DATE:20080720
DTEND;VALUE=DATE:20080721
DTSTAMP:20260419T215647
CREATED:20080715T133900Z
LAST-MODIFIED:20211210T105201Z
UID:28247-1216571400-1216593000@www.stivoz.gr
SUMMARY:Pr.meeting: KBC Nacht (Heusden)
DESCRIPTION:http://www.sport.be/kbcnacht/2008/eng/ \n(τοπική ώρα\, 1 ώρα διαφορά\, πχ 800 Β στις 7:30 Ελλάδος) \n18:30  Shot Put Women\n18:30  800m Men B\n19:00  1500m Men B  \n19:15  Pole Vault Men\n19:15  400m Hurdles Women\n19:25  100m Women Race 1\n19:30  100m Women Race 2\n19:35  Triple Jump women\n19:35  High Jump Women\n19:40  100m Men heat 1\n19:45  100m Men heat 2\n19:55  400m Men\n20:00  Javelin Throw Men\n20:05  1500m Women\n20:15  3000m Steeple Men\n20:30  100m Hurdles Women\n20:30  Shot Put Men\n20:40  100m Men Final\n20:50  200m Women\n20:55  200m Men\n21:05  3000m Steeple Women\n21:20  800m Men\n21:30  1500m Men\n21:40  5000m Men\n22:00  5000m Men B
URL:https://www.stivoz.gr/event/heusden-2008/
CATEGORIES:Ημερολόγιο αγώνων
END:VEVENT
END:VCALENDAR