BEGIN:VCALENDAR
VERSION:2.0
PRODID:-//StivoZ.gr - ECPv5.16.4//NONSGML v1.0//EN
CALSCALE:GREGORIAN
METHOD:PUBLISH
X-WR-CALNAME:StivoZ.gr
X-ORIGINAL-URL:https://www.stivoz.gr
X-WR-CALDESC:StivoZ.gr - Εκδηλώσεις
BEGIN:VTIMEZONE
TZID:Europe/Athens
BEGIN:STANDARD
TZOFFSETFROM:+0200
TZOFFSETTO:+0200
TZNAME:EET
DTSTART:20100101T000000
END:STANDARD
END:VTIMEZONE
BEGIN:VEVENT
DTSTART;VALUE=DATE:20100207
DTEND;VALUE=DATE:20260424
DTSTAMP:20260423T003849
CREATED:20100124T154640Z
LAST-MODIFIED:20181208T172918Z
UID:28386-1265500800-0@www.stivoz.gr
SUMMARY:γύροι πόλεων: Χίος
DESCRIPTION:Σχετικά θέματα:\nhttp://www.stivoz.com/forum/showthread.php?t=3718 \n10.00 Τελετή έναρξης\n10.30 1.000μ Κοριτσιών ΑμεΑ\n11.00 1.000μ Αγοριών ΑμεΑ\n11.30 1.000μ Παγκορασίδων-Κοριτσιών Γυμνασίων\n11.50 2.000μ Παμπαίδων-Αγοριών Γυμνασίων\n12.10 4.000μ Γυναικών\n12.35 6.000μ Ανδρών\n13.10 1.000μ Αγοριών Δημοτικών Σχολείων\n13.30 1.000μ Κοριτσιών Δημοτικών Σχολείων
URL:https://www.stivoz.gr/event/gyroi-poleon-chios/
CATEGORIES:Ημερολόγιο αγώνων
END:VEVENT
END:VCALENDAR