BEGIN:VCALENDAR
VERSION:2.0
PRODID:-//StivoZ.gr - ECPv5.16.4//NONSGML v1.0//EN
CALSCALE:GREGORIAN
METHOD:PUBLISH
X-WR-CALNAME:StivoZ.gr
X-ORIGINAL-URL:https://www.stivoz.gr
X-WR-CALDESC:StivoZ.gr - Εκδηλώσεις
BEGIN:VTIMEZONE
TZID:Europe/Athens
BEGIN:DAYLIGHT
TZOFFSETFROM:+0200
TZOFFSETTO:+0300
TZNAME:EEST
DTSTART:20180325T010000
END:DAYLIGHT
BEGIN:STANDARD
TZOFFSETFROM:+0300
TZOFFSETTO:+0200
TZNAME:EET
DTSTART:20181028T010000
END:STANDARD
END:VTIMEZONE
BEGIN:VEVENT
DTSTART;VALUE=DATE:20180705
DTEND;VALUE=DATE:20180709
DTSTAMP:20260419T235634
CREATED:20180508T144734Z
LAST-MODIFIED:20181218T084644Z
UID:29357-1530781200-1531080000@www.stivoz.gr
SUMMARY:Ευρωπαικό Π/Κ (Gyor)
DESCRIPTION:www.gyor2018.com/ \nwww.european-athletics.org/competitions/european-athletics-youth-championships/2018/schedules-results/ (πρόγραμμα/αποτελέσματα) \n-> Livestream \nΣχετικά θέματα:\n– www.stivoz.com/content.php?6760-H-omada-gia-Gyor-Me-Tzengko-alla-xwris-Granitsioti (ομάδα Ελλάδος & Κύπρου)\n– www.stivoz.com/content.php?6780-Gyor-Xekinane-oi-mikroi-to-vadhn-korasidwn-o-1os-telikos\n– www.stivoz.com/content.php?6782-Gyor-Argyro-i-Fiaska-kai-6i-i-Seferiadi-sto-vadin-Apolyto-prokrisewn-tin-A-imera\n– www.stivoz.com/content.php?6784-Gyor-Synexeia-me-prokriseis-Dynata-i-Tsoukala\n– www.stivoz.com/content.php?6786-Gyor-5os-o-Kelepouris-sto-vadin-Perasn-Dosi-ki-epikontistes\n– www.stivoz.com/content.php?6787-Gyor-Xalkina-Kosmidou-kai-Karydi-recor-Spyrou-sto-3ari\n– www.stivoz.com/content.php?6788-Gyor-Akoma-2-prokriseis-to-proi-tis-3is-imeras\n– www.stivoz.com/content.php?6789-Gyor-Argyro-me-megali-voli-o-Kalogerakis-neo-NR-iKarydi-5os-o-Kamarinos\n– www.stivoz.com/content.php?6791-Gyor-4i-me-neo-rekor-i-Karydi-sto-finale-tou-Europaikou-U18-Kalos-o-apologismos\n– www.stivoz.com/forum/showthread.php?17865 (αποτελέσματα – ελληνικές συμμετοχές) \n-> Πρόγραμμα\n-> συμμετοχές\n-> πρ.YOG2018\n-> Όρια\n-> TeamManual\n-> EAA U18 rules \nΗ ομάδα θα διαμείνει στις Πανεπιστημιακές εγκαταστάσεις «Gyor Szechenyi Istvan University Campus» \nΠρόγραμμα (σε ώρα Ελλάδος) : \nΠΕΜΠΤΗ 5/7 \n12:00	Hammer Throw (3kg) Girls Qualifying Rounds\n12:03	Heptathlon U18 Girls 100m Hurdles (76cm)\n12:25	5000m Race Walk Girls Final\n13:05	Heptathlon U18 Girls High Jump\n13:10	400m Girls Qualifying Rounds\n13:45	100m Boys Qualifying Rounds\n14:27	100m Girls Qualifying Rounds\n15:00	Javelin Throw (700g) Boys Qualifying Rounds\n15:10	Shot Put (5kg) Boys Qualifying Rounds	 \n19:40	High Jump Boys Qualifying Rounds\n20:06	800m Girls Qualifying Rounds\n20:06	Long Jump Girls Qualifying Rounds\n20:50	Heptathlon U18 Girls Shot Put\n20:54	1500m Boys Qualifying Rounds\n21:05	Pole Vault Girls Qualifying Rounds\n21:10	100m Boys Semifinals\n21:20	Discus Throw (1.500kg) Boys Qualifying Rounds\n21:32	3000m Boys Final\n21:38	Triple Jump Boys Qualifying Rounds\n21:47	100m Girls Semifinals\n22:08	Heptathlon U18 Girls 200m\n22:33	2000m Steeplechase Girls Qualifying Rounds	 \nΠΑΡΑΣΚΕΥΗ 6/7 \n11:00	Heptathlon U18 Girls Long Jump\n11:05	110m Hurdles (91cm) Boys Qualifying Rounds\n11:05	Pole Vault Boys Qualifying Rounds\n11:40	10\,000m Race Walk Boys Final\n12:15	Hammer Throw (5kg) Boys Qualifying Rounds\n12:40	1500m Girls Qualifying Rounds\n13:00	400m Hurdles (84.0cm) Boys Qualifying Rounds\n13:10	High Jump Girls Qualifying Rounds\n13:12	Shot Put (3kg) Girls Qualifying Rounds\n13:35	400m Hurdles Girls Qualifying Rounds\n14:08	800m Boys Qualifying Rounds	 \n17:00	Heptathlon U18 Girls Javelin Throw (500g)\n18:00	110m Hurdles (91cm) Boys Semifinals\n18:05	Long Jump Girls Final\n18:28	200m Girls Qualifying Rounds\n18:56	200m Boys Qualifying Rounds\n19:20	Discus Throw (1.500kg) Boys Final\n19:25	Shot Put (5kg) Boys Final\n19:38	3000m Girls Final\n19:53	400m Boys Qualifying Rounds\n20:20	Heptathlon U18 Girls 800m\n20:48	400m Girls Semifinals\n20:50	Triple Jump Boys Final\n20:57	Hammer Throw (3kg) Girls Final\n21:09	100m Girls Final\n21:26	800m Girls Semifinals\n21:47	100m Boys Final\n22:03	2000m Steeplechase Boys Qualifying Rounds \nΣΑΒΒΑΤΟ 7/7 \n10:50	Discus Throw Girls Qualifying Rounds\n11:00	Decathlon U18 Boys 100m\n11:05	Long Jump Boys Qualifying Rounds\n11:35	100m Hurdles (76.2cm) Girls Qualifying Rounds\n12:20	200m Boys Semifinals\n12:25	Decathlon U18 Boys Long Jump\n12:44	200m Girls Semifinals\n13:12	Medley Relay Boys Qualifying Rounds\n13:30	Javelin Throw (500g) Girls Qualifying Rounds\n13:32	Medley Relay Girls Qualifying Rounds\n13:50	Decathlon U18 Boys Shot Put (5Kg)	 \n18:00	Hammer Throw (5kg) Boys Final\n18:05	Pole Vault Girls Final\n18:15	Decathlon U18 Boys High Jump\n18:30	400m Hurdles (84.0cm) Boys Semifinals\n19:05	400m Hurdles Girls Semifinals\n19:20	Shot Put (3kg) Girls Final\n19:29	2000m Steeplechase Girls Final\n19:40	400m Boys Final\n19:48	400m Girls Final\n19:56	100m Hurdles (76.2cm) Girls Semifinals\n20:27	1500m Boys Final\n20:42	200m Girls Final\n20:43	Javelin Throw (700g) Boys Final\n20:45	High Jump Boys Final\n20:49	200m Boys Final\n20:50	Triple Jump Girls Qualifying Rounds\n21:02	800m Boys Semifinals\n21:28	Decathlon U18 Boys 400m\n22:00	110m Hurdles (91cm) Boys Final\n22:18	800m Girls Final  \nΚΥΡΙΑΚΗ 8/7 \n11:00	Decathlon U18 Boys 110m Hurdles (91cm)\n11:55	Decathlon U18 Boys Discus Throw (1.5Kg)\n14:30	Decathlon U18 Boys Pole Vault\n17:00	Decathlon U18 Boys Javelin Throw (700g)		 \n18:00	Long Jump Boys Final\n18:25	Pole Vault Boys Final\n19:20	400m Hurdles Girls Final\n19:30	Javelin Throw (500g) Girls Final\n19:35	Triple Jump Girls Final\n19:37	400m Hurdles (84.0cm) Boys Final\n19:53	800m Boys Final\n20:10	1500m Girls Final\n20:35	2000m Steeplechase Boys Final\n20:48	High Jump Girls Final\n20:54	100m Hurdles (76.2cm) Girls Final\n21:08	Decathlon U18 Boys 1500m\n21:15	Discus Throw Girls Final\n21:42	Medley Relay Girls Final\n21:58	Medley Relay Boys Final
URL:https://www.stivoz.gr/event/gyor2018/
CATEGORIES:Ημερολόγιο αγώνων
END:VEVENT
END:VCALENDAR