BEGIN:VCALENDAR
VERSION:2.0
PRODID:-//StivoZ.gr - ECPv5.16.4//NONSGML v1.0//EN
CALSCALE:GREGORIAN
METHOD:PUBLISH
X-WR-CALNAME:StivoZ.gr
X-ORIGINAL-URL:https://www.stivoz.gr
X-WR-CALDESC:StivoZ.gr - Εκδηλώσεις
BEGIN:VTIMEZONE
TZID:Europe/Athens
BEGIN:DAYLIGHT
TZOFFSETFROM:+0200
TZOFFSETTO:+0300
TZNAME:EEST
DTSTART:20180325T010000
END:DAYLIGHT
BEGIN:STANDARD
TZOFFSETFROM:+0300
TZOFFSETTO:+0200
TZNAME:EET
DTSTART:20181028T010000
END:STANDARD
END:VTIMEZONE
BEGIN:VEVENT
DTSTART;VALUE=DATE:20180504
DTEND;VALUE=DATE:20180508
DTSTAMP:20260419T193536
CREATED:20180426T144819Z
LAST-MODIFIED:20181218T090207Z
UID:29339-1525424400-1525726800@www.stivoz.gr
SUMMARY:Παγκ.Γυμνασιάδα (Marrakech)
DESCRIPTION:Σχετικά θέματα:\n– www.stivoz.com/content.php?6634-Oi-kalyteroi-P-K-tou-sxolikou-pane-Marrakech (Ελλάδα)\n– www.stivoz.com/content.php?6639-Oi-mathites-sto-Marrakech (Κύπρος)\n– www.stivoz.com/content.php?6643-Gymnasiade-3i-i-Spyrou-me-orio-turbo-o-Granitsiotis-Organotika-problimata-sto-Marrakech\n– www.stivoz.com/content.php?6644-Gymnasiade-Xrysa-Tzengo-kai-Granitsiotis-metallia-kai-apo-Xantzou-kai-Panopoulou\n– www.stivoz.com/content.php?6647-Gymnasiade-Xrysa-i-Postika-me-4m-kai-i-Karydi\n– www.stivoz.com/content.php?6649-Gymnasiade-Finale-me-3-akoma-xrysa-me-Kessidi-Dosi-kai-Santa \n-> Πρόγραμμα \n-> Ιστορικό
URL:https://www.stivoz.gr/event/gymnasiade2018/
CATEGORIES:Ημερολόγιο αγώνων
END:VEVENT
END:VCALENDAR