BEGIN:VCALENDAR
VERSION:2.0
PRODID:-//StivoZ.gr - ECPv5.16.4//NONSGML v1.0//EN
CALSCALE:GREGORIAN
METHOD:PUBLISH
X-WR-CALNAME:StivoZ.gr
X-ORIGINAL-URL:https://www.stivoz.gr
X-WR-CALDESC:StivoZ.gr - Εκδηλώσεις
BEGIN:VTIMEZONE
TZID:Europe/Athens
BEGIN:DAYLIGHT
TZOFFSETFROM:+0200
TZOFFSETTO:+0300
TZNAME:EEST
DTSTART:20090329T010000
END:DAYLIGHT
BEGIN:STANDARD
TZOFFSETFROM:+0300
TZOFFSETTO:+0200
TZNAME:EET
DTSTART:20091025T010000
END:STANDARD
END:VTIMEZONE
BEGIN:VEVENT
DTSTART;VALUE=DATE:20091207
DTEND;VALUE=DATE:20091213
DTSTAMP:20260421T172532
CREATED:20080828T000959Z
LAST-MODIFIED:20190105T074110Z
UID:28251-1260144000-1260662399@www.stivoz.gr
SUMMARY:Γυμνασιαδα (Καταρ)
DESCRIPTION:www.gymnasiade.com \nhttp://www.isfsports.org/sports/images/public/Events/Gymnasiade_2010/presentation.ppt
URL:https://www.stivoz.gr/event/gymnasiade2009/
CATEGORIES:Ημερολόγιο αγώνων
END:VEVENT
END:VCALENDAR