BEGIN:VCALENDAR
VERSION:2.0
PRODID:-//StivoZ.gr - ECPv5.16.4//NONSGML v1.0//EN
CALSCALE:GREGORIAN
METHOD:PUBLISH
X-WR-CALNAME:StivoZ.gr
X-ORIGINAL-URL:https://www.stivoz.gr
X-WR-CALDESC:StivoZ.gr - Εκδηλώσεις
BEGIN:VTIMEZONE
TZID:Europe/Athens
BEGIN:DAYLIGHT
TZOFFSETFROM:+0200
TZOFFSETTO:+0300
TZNAME:EEST
DTSTART:20200329T010000
END:DAYLIGHT
BEGIN:STANDARD
TZOFFSETFROM:+0300
TZOFFSETTO:+0200
TZNAME:EET
DTSTART:20201025T010000
END:STANDARD
END:VTIMEZONE
BEGIN:VEVENT
DTSTART;VALUE=DATE:20200627
DTEND;VALUE=DATE:20200628
DTSTAMP:20260421T020827
CREATED:20200626T215748Z
LAST-MODIFIED:20200626T215748Z
UID:67990-1593216000-1593302399@www.stivoz.gr
SUMMARY:ΓΣ ΣΕΓΑΣ (Τρίκαλα)
DESCRIPTION:-> θέματα / πληροφορίες\n-> Εγκύκλιος οδηγιών
URL:https://www.stivoz.gr/event/gs-segas-2020-06-27/
CATEGORIES:Ημερολόγιο αγώνων
END:VEVENT
END:VCALENDAR