BEGIN:VCALENDAR
VERSION:2.0
PRODID:-//StivoZ.gr - ECPv5.16.4//NONSGML v1.0//EN
CALSCALE:GREGORIAN
METHOD:PUBLISH
X-WR-CALNAME:StivoZ.gr
X-ORIGINAL-URL:https://www.stivoz.gr
X-WR-CALDESC:StivoZ.gr - Εκδηλώσεις
BEGIN:VTIMEZONE
TZID:Europe/Athens
BEGIN:DAYLIGHT
TZOFFSETFROM:+0200
TZOFFSETTO:+0300
TZNAME:EEST
DTSTART:20090329T010000
END:DAYLIGHT
BEGIN:STANDARD
TZOFFSETFROM:+0300
TZOFFSETTO:+0200
TZNAME:EET
DTSTART:20091025T010000
END:STANDARD
END:VTIMEZONE
BEGIN:VEVENT
DTSTART;VALUE=DATE:20090729
DTEND;VALUE=DATE:20090731
DTSTAMP:20260420T180848
CREATED:20090529T145828Z
LAST-MODIFIED:20181218T103540Z
UID:28308-1248883200-1248987600@www.stivoz.gr
SUMMARY:Συνάντηση Π/Κ Ελλάδος-Κύπρου
DESCRIPTION:Σχετικά θέματα:\n– www.stivoz.com/forum/showthread.php?3421\n– http://www.stivoz.gr/?p=16805 (αποτελέσματα) \nΠρόγραμμα: \nΤετάρτη 29/7 \n18.30 Τελετή Εναρξης \n19.00 Επί Κοντώ (Κ)\n19.00 Υψος (Π)\n19.00 Τριπλούν (Π)\n19.00 Δισκοβολία (Κ)\n19.00 100μ εμπ (Κ)\n19.30 110μ εμπ (Π)\n19.45 100μ (Κ)\n20.00 100μ (Π)\n20.10 2.000μ steeple (Π)\n20.20 2.000μ steeple (Κ)\n20.30 1.500μ (Κ)\n20.30 Μήκος (Κ)\n20.30 Δισκοβολία (Π)\n20.40 1.500μ (Π)\n20.50 400μ (Κ)\n21.00 400μ (Π)\n21.10 4χ100μ (Κ)\n21.20 4χ100 (Π) \n*και τριπλούν (Π) κάποια στιγμή \nΠέμπτη 30/7 \n18.15 Σφυροβολία (Κ)\n18.45 Σφυροβολία (Π)\n19.30 Σφαιροβολία (Π)\n19.30 Ακοντισμός (Κ)\n19.30 400μ εμπ (Κ)\n19.45 400μ εμπ (Π)\n19.45 Υψος (Κ)\n19.55 Επί κοντώ (Π)\n19.55 800μ (Κ)\n20.05 800μ (Π)\n20.05 Μήκος (Π)\n20.15 200μ (Κ)\n20.15 Σφαιροβολία (Κ)\n20.15 Ακοντισμός (Π)\n20.25 200μ (Π)\n20.25 Τριπλούν (Κ)\n20.30 3.000μ (Π)\n21.05 4χ400μ (Κ)\n21.15 4χ400μ (Π)
URL:https://www.stivoz.gr/event/gre-cyp-2009/
CATEGORIES:Ημερολόγιο αγώνων
END:VEVENT
END:VCALENDAR