BEGIN:VCALENDAR
VERSION:2.0
PRODID:-//StivoZ.gr - ECPv5.16.4//NONSGML v1.0//EN
CALSCALE:GREGORIAN
METHOD:PUBLISH
X-WR-CALNAME:StivoZ.gr
X-ORIGINAL-URL:https://www.stivoz.gr
X-WR-CALDESC:StivoZ.gr - Εκδηλώσεις
BEGIN:VTIMEZONE
TZID:Europe/Athens
BEGIN:DAYLIGHT
TZOFFSETFROM:+0200
TZOFFSETTO:+0300
TZNAME:EEST
DTSTART:20080330T010000
END:DAYLIGHT
BEGIN:STANDARD
TZOFFSETFROM:+0300
TZOFFSETTO:+0200
TZNAME:EET
DTSTART:20081026T010000
END:STANDARD
END:VTIMEZONE
BEGIN:VEVENT
DTSTART;VALUE=DATE:20080723
DTEND;VALUE=DATE:20080725
DTSTAMP:20260420T012617
CREATED:20080116T110724Z
LAST-MODIFIED:20181218T105656Z
UID:28210-1216828800-1216929600@www.stivoz.gr
SUMMARY:Συνάντηση Π/Κ Ελλάδος-Κύπρου (Λευκωσία)
DESCRIPTION:πρόγραμμα: http://www.stivoz.com/forum/showpost.php?p=32462&postcount=3
URL:https://www.stivoz.gr/event/gre-cyp-2008/
CATEGORIES:Ημερολόγιο αγώνων
END:VEVENT
END:VCALENDAR