BEGIN:VCALENDAR
VERSION:2.0
PRODID:-//StivoZ.gr - ECPv5.16.4//NONSGML v1.0//EN
CALSCALE:GREGORIAN
METHOD:PUBLISH
X-WR-CALNAME:StivoZ.gr
X-ORIGINAL-URL:https://www.stivoz.gr
X-WR-CALDESC:StivoZ.gr - Εκδηλώσεις
BEGIN:VTIMEZONE
TZID:Europe/Athens
BEGIN:STANDARD
TZOFFSETFROM:+0200
TZOFFSETTO:+0200
TZNAME:EET
DTSTART:20080101T000000
END:STANDARD
END:VTIMEZONE
BEGIN:VEVENT
DTSTART;VALUE=DATE:20080722
DTEND;VALUE=DATE:20260420
DTSTAMP:20260419T234323
CREATED:20070910T093501Z
LAST-MODIFIED:20181208T172927Z
UID:28133-1216684800-0@www.stivoz.gr
SUMMARY:Gr.prix: Stockholm
DESCRIPTION:http://www.dngalan.com/eng.php \nπρόγραμμα: http://www.dngalan.com/main/lang-en/latest-news/time-schedule/2-nyheter-alias/10-nytt-tidsprogram \nσυμμετοχες: http://www.dngalan.com/main/images/stories/textfiler/startlistint20080719.pdf
URL:https://www.stivoz.gr/event/gr-prix-stockholm/
CATEGORIES:Ημερολόγιο αγώνων
END:VEVENT
END:VCALENDAR