BEGIN:VCALENDAR
VERSION:2.0
PRODID:-//StivoZ.gr - ECPv5.16.4//NONSGML v1.0//EN
CALSCALE:GREGORIAN
METHOD:PUBLISH
X-WR-CALNAME:StivoZ.gr
X-ORIGINAL-URL:https://www.stivoz.gr
X-WR-CALDESC:StivoZ.gr - Εκδηλώσεις
BEGIN:VTIMEZONE
TZID:Europe/Athens
BEGIN:STANDARD
TZOFFSETFROM:+0200
TZOFFSETTO:+0200
TZNAME:EET
DTSTART:20080101T000000
END:STANDARD
END:VTIMEZONE
BEGIN:VEVENT
DTSTART;VALUE=DATE:20080713
DTEND;VALUE=DATE:20260421
DTSTAMP:20260420T044606
CREATED:20070910T092817Z
LAST-MODIFIED:20181208T172941Z
UID:28128-1215907200-0@www.stivoz.gr
SUMMARY:Gr.prix: Athens - Τσικλητηρεια
DESCRIPTION:Σχετικά θέματα:\nhttp://www.stivoz.gr/?p=16734 (αποτελέσματα) \n20:00 Γ ακοντισμός\n20:05 Α τριπλούν\n20:10 Α επικοντώ\n20:15 Γ 100m Final 1\n20:25 Γ 100m Final 2\n20:35 Α 100m Final 1\n20:45 Α 100m Final 2\n21:00 Α 110m εμπ\n21:10 Α 110m εμπ\n21:15 Α ύψος\n21:25 Α 400m εμπ\n21:40 Γ 400m\n21:45 Α ακοντισμός\n21:50 Α μήκος\n21:55 Γ 800m\n22:05 Α 800m\n22:15 Γ 1500m\n22:25 Α 200μ\n22:35 Γ 3000m Steeple\n22:50 Α 3000m Steeple
URL:https://www.stivoz.gr/event/gr-prix-athens-2/
CATEGORIES:Ημερολόγιο αγώνων
END:VEVENT
END:VCALENDAR