BEGIN:VCALENDAR
VERSION:2.0
PRODID:-//StivoZ.gr - ECPv5.16.4//NONSGML v1.0//EN
CALSCALE:GREGORIAN
METHOD:PUBLISH
X-WR-CALNAME:StivoZ.gr
X-ORIGINAL-URL:https://www.stivoz.gr
X-WR-CALDESC:StivoZ.gr - Εκδηλώσεις
BEGIN:VTIMEZONE
TZID:Europe/Athens
BEGIN:DAYLIGHT
TZOFFSETFROM:+0200
TZOFFSETTO:+0300
TZNAME:EEST
DTSTART:20190331T010000
END:DAYLIGHT
BEGIN:STANDARD
TZOFFSETFROM:+0300
TZOFFSETTO:+0200
TZNAME:EET
DTSTART:20191027T010000
END:STANDARD
END:VTIMEZONE
BEGIN:VEVENT
DTSTART;VALUE=DATE:20190525
DTEND;VALUE=DATE:20190527
DTSTAMP:20260419T222248
CREATED:20181223T112033Z
LAST-MODIFIED:20211210T102152Z
UID:41391-1558742400-1558915199@www.stivoz.gr
SUMMARY:Hypo-meeting συνθέτων (Goetzis)
DESCRIPTION:https://meeting-goetzis.at/ \nΣχετικά θέματα:\n– https://www.stivoz.gr/i-johnson-thompson-atomiko-kai-o-warner-super-100ari-sto-goetzis/
URL:https://www.stivoz.gr/event/goetzis-2019/
CATEGORIES:Ημερολόγιο αγώνων
END:VEVENT
END:VCALENDAR