BEGIN:VCALENDAR
VERSION:2.0
PRODID:-//StivoZ.gr - ECPv5.16.4//NONSGML v1.0//EN
CALSCALE:GREGORIAN
METHOD:PUBLISH
X-WR-CALNAME:StivoZ.gr
X-ORIGINAL-URL:https://www.stivoz.gr
X-WR-CALDESC:StivoZ.gr - Εκδηλώσεις
BEGIN:VTIMEZONE
TZID:Europe/Athens
BEGIN:DAYLIGHT
TZOFFSETFROM:+0200
TZOFFSETTO:+0300
TZNAME:EEST
DTSTART:20100328T010000
END:DAYLIGHT
BEGIN:STANDARD
TZOFFSETFROM:+0300
TZOFFSETTO:+0200
TZNAME:EET
DTSTART:20101031T010000
END:STANDARD
END:VTIMEZONE
BEGIN:VEVENT
DTSTART;VALUE=DATE:20100529
DTEND;VALUE=DATE:20100531
DTSTAMP:20260420T090253
CREATED:20100403T192647Z
LAST-MODIFIED:20230526T200719Z
UID:28456-1275123600-1275253200@www.stivoz.gr
SUMMARY:Chal.συνθέτων#2 (Αυστρία)
DESCRIPTION:http://www.hypomeeting-goetzis.at/
URL:https://www.stivoz.gr/event/goetzis-2010/
CATEGORIES:Ημερολόγιο αγώνων
END:VEVENT
END:VCALENDAR