BEGIN:VCALENDAR
VERSION:2.0
PRODID:-//StivoZ.gr - ECPv5.16.4//NONSGML v1.0//EN
CALSCALE:GREGORIAN
METHOD:PUBLISH
X-WR-CALNAME:StivoZ.gr
X-ORIGINAL-URL:https://www.stivoz.gr
X-WR-CALDESC:StivoZ.gr - Εκδηλώσεις
BEGIN:VTIMEZONE
TZID:Europe/Athens
BEGIN:DAYLIGHT
TZOFFSETFROM:+0200
TZOFFSETTO:+0300
TZNAME:EEST
DTSTART:20240331T010000
END:DAYLIGHT
BEGIN:STANDARD
TZOFFSETFROM:+0300
TZOFFSETTO:+0200
TZNAME:EET
DTSTART:20241027T010000
END:STANDARD
END:VTIMEZONE
BEGIN:VEVENT
DTSTART;VALUE=DATE:20240706
DTEND;VALUE=DATE:20240707
DTSTAMP:20260420T034232
CREATED:20240628T130737Z
LAST-MODIFIED:20240709T081957Z
UID:117349-1720224000-1720310399@www.stivoz.gr
SUMMARY:gala αποστάσεων (Χαλκίδα)
DESCRIPTION:Σχετικά θέματα:\n– www.stivoz.gr/chalkida-rekor-k18-sta-1500m-i-royssoy/\n– www.stivoz.gr/gala-apostaseon-2024/ (αποτελέσματα) \nΠρόγραμμα: \n19:15 3.000μ Βάδην Κοριτσιών Κ16\n19:30 600μ Κοριτσιών Κ16-Κ14\n19:45 600μ Αγοριών Κ16-Κ14\n20:00 1.000μ Κοριτσιών Κ18-Κ16\n20:15 1.000μ Αγοριών Κ18-Κ16\n20:30 800μ Γυναικών\, (Κ18 και άνω)\n20:45 800μ Ανδρών\, (Κ18 και άνω)\n21:00 1.500μ Γυναικών\, (Κ18 και άνω)\n21:15 1.500μ Ανδρών\, (Κ18 και άνω)\n21:45 2.000μ Γυναικών\, (Κ16 και άνω)\n22:00 2.000μ Ανδρών\, (Κ16 και άνω) \nΟι δηλώσεις συμμετοχής θα υποβάλλονται μέχρι την Τετάρτη 3 Ιουλίου 2024 -> εδώ
URL:https://www.stivoz.gr/event/gala-apostaseon-2024/
CATEGORIES:Ημερολόγιο αγώνων
END:VEVENT
END:VCALENDAR