BEGIN:VCALENDAR
VERSION:2.0
PRODID:-//StivoZ.gr - ECPv5.16.4//NONSGML v1.0//EN
CALSCALE:GREGORIAN
METHOD:PUBLISH
X-WR-CALNAME:StivoZ.gr
X-ORIGINAL-URL:https://www.stivoz.gr
X-WR-CALDESC:StivoZ.gr - Εκδηλώσεις
BEGIN:VTIMEZONE
TZID:Europe/Athens
BEGIN:STANDARD
TZOFFSETFROM:+0200
TZOFFSETTO:+0200
TZNAME:EET
DTSTART:20180101T000000
END:STANDARD
END:VTIMEZONE
BEGIN:VEVENT
DTSTART;VALUE=DATE:20180606
DTEND;VALUE=DATE:20260426
DTSTAMP:20260425T132830
CREATED:20180604T195615Z
LAST-MODIFIED:20181208T172608Z
UID:29379-1528243200-0@www.stivoz.gr
SUMMARY:Γ.Ζδράγκας (Λάρισα)
DESCRIPTION:Σχετικά θέματα:\n– www.stivoz.com/content.php?6717-Me-prooptiki-kathierosis-oi-agones-sti-mnimi-tou-Zdragka-sti-Larisa\n– www.stivoz.com/forum/showthread.php?17713 (αποτελέσματα)
URL:https://www.stivoz.gr/event/g-zdragkas-larisa/
CATEGORIES:Ημερολόγιο αγώνων
END:VEVENT
END:VCALENDAR