BEGIN:VCALENDAR
VERSION:2.0
PRODID:-//StivoZ.gr - ECPv5.16.4//NONSGML v1.0//EN
CALSCALE:GREGORIAN
METHOD:PUBLISH
X-WR-CALNAME:StivoZ.gr
X-ORIGINAL-URL:https://www.stivoz.gr
X-WR-CALDESC:StivoZ.gr - Εκδηλώσεις
BEGIN:VTIMEZONE
TZID:Europe/Athens
BEGIN:DAYLIGHT
TZOFFSETFROM:+0200
TZOFFSETTO:+0300
TZNAME:EEST
DTSTART:20230326T010000
END:DAYLIGHT
BEGIN:STANDARD
TZOFFSETFROM:+0300
TZOFFSETTO:+0200
TZNAME:EET
DTSTART:20231029T010000
END:STANDARD
END:VTIMEZONE
BEGIN:VEVENT
DTSTART;VALUE=DATE:20230618
DTEND;VALUE=DATE:20230619
DTSTAMP:20260422T174704
CREATED:20230601T091855Z
LAST-MODIFIED:20230619T111948Z
UID:105215-1687046400-1687132799@www.stivoz.gr
SUMMARY:Fly Olympia
DESCRIPTION:flyolympia.com \nδιεθνές μίτινγκ άλματος επί κοντώ στην Αρχαία Ολυμπία \nΣχετικά θέματα:\n– www.stivoz.gr/fly-olympia-2023/ (αποτελέσματα)
URL:https://www.stivoz.gr/event/fly-olympia-2023/
CATEGORIES:Ημερολόγιο αγώνων
END:VEVENT
END:VCALENDAR