BEGIN:VCALENDAR
VERSION:2.0
PRODID:-//StivoZ.gr - ECPv5.16.4//NONSGML v1.0//EN
CALSCALE:GREGORIAN
METHOD:PUBLISH
X-WR-CALNAME:StivoZ.gr
X-ORIGINAL-URL:https://www.stivoz.gr
X-WR-CALDESC:StivoZ.gr - Εκδηλώσεις
BEGIN:VTIMEZONE
TZID:Europe/Athens
BEGIN:STANDARD
TZOFFSETFROM:+0200
TZOFFSETTO:+0200
TZNAME:EET
DTSTART:20090101T000000
END:STANDARD
END:VTIMEZONE
BEGIN:VEVENT
DTSTART;VALUE=DATE:20090527
DTEND;VALUE=DATE:20260420
DTSTAMP:20260419T220521
CREATED:20081101T094410Z
LAST-MODIFIED:20181218T091949Z
UID:28265-1243382400-0@www.stivoz.gr
SUMMARY:Gala γυναικών (Φιλοθέη)
DESCRIPTION:Σχετικά θέματα:\nhttp://www.stivoz.gr/?p=16772 \nhttp://www.filothei-gala.org/ \n15.45 Μήκος ΠΚ-Κ-Ν\n16.15 Υψος ΠΚ-Κ-Ν\n16.45 Τριπλούν Γ\n17.00 Επί κοντώ Γ\n17.15 Υψος Γ\n17.30 100μ Εμπόδια Γ\n17.45 50μ Δημοτικών Σχολείων\n18.30 Μήκος Γ\n18.30 100μ ΠΚ-Κ-Ν\n18.40 100μ Γ
URL:https://www.stivoz.gr/event/filothei-women-gala-2009/
CATEGORIES:Ημερολόγιο αγώνων
END:VEVENT
END:VCALENDAR